BEGIN:VCALENDAR
VERSION:2.0
PRODID:-//Musikschule - Bildung mit Zukunft - Oldesloer Musikschule für Stadt und Land e.V. - ECPv6.3.3.1//NONSGML v1.0//EN
CALSCALE:GREGORIAN
METHOD:PUBLISH
X-ORIGINAL-URL:https://oldesloer-musikschule.de
X-WR-CALDESC:Veranstaltungen für Musikschule - Bildung mit Zukunft - Oldesloer Musikschule für Stadt und Land e.V.
REFRESH-INTERVAL;VALUE=DURATION:PT1H
X-Robots-Tag:noindex
X-PUBLISHED-TTL:PT1H
BEGIN:VTIMEZONE
TZID:Europe/Berlin
BEGIN:DAYLIGHT
TZOFFSETFROM:+0100
TZOFFSETTO:+0200
TZNAME:CEST
DTSTART:20200329T010000
END:DAYLIGHT
BEGIN:STANDARD
TZOFFSETFROM:+0200
TZOFFSETTO:+0100
TZNAME:CET
DTSTART:20201025T010000
END:STANDARD
END:VTIMEZONE
BEGIN:VEVENT
DTSTART;TZID=Europe/Berlin:20201212T160000
DTEND;TZID=Europe/Berlin:20201212T180000
DTSTAMP:20260423T184432
CREATED:20200319T103158Z
LAST-MODIFIED:20201212T123958Z
UID:2066-1607788800-1607796000@oldesloer-musikschule.de
SUMMARY:Weihnachtliche Watch Night
DESCRIPTION:In diesem Jahr nicht live\, aber vor dem heimischen Kaminfeuer\, präsentiert die Oldesloer Musikschule für Stadt und Land e.V. einen Zusammenschnitt mit einigen Schülerinnen und Schülern\, aufgenommen im Bad Oldesloer „KuB-Saal“ und moderiert von Schülerinnen und Schülern sowie vom Musikschulleiter Marian Henze. Die „Weihnachts – watch night“ startet am 12.12.2020 um 16:00 Uhr live auf unserem Youtube-Kanal: https://youtu.be/ybLp_UiY37c
URL:https://oldesloer-musikschule.de/event/vorankuendigung-weihnachtskonzert/
LOCATION:Kultur- und Bildungszentrum (KuB)\, Beer-Yaacov-Weg 1\, Bad Oldesloe\, 23843\, Deutschland
CATEGORIES:Termine der Musikschule
ATTACH;FMTTYPE=image/jpeg:https://oldesloer-musikschule.de/wp-content/uploads/2020/03/Weihnachts-watch-night_Logo-KuB_1.jpg
ORGANIZER;CN="Musikschule":MAILTO:info@oldesloer-musikschule.de
END:VEVENT
END:VCALENDAR