BEGIN:VCALENDAR
VERSION:2.0
PRODID:-//Musikschule - Bildung mit Zukunft - Oldesloer Musikschule für Stadt und Land e.V. - ECPv6.3.3.1//NONSGML v1.0//EN
CALSCALE:GREGORIAN
METHOD:PUBLISH
X-ORIGINAL-URL:https://oldesloer-musikschule.de
X-WR-CALDESC:Veranstaltungen für Musikschule - Bildung mit Zukunft - Oldesloer Musikschule für Stadt und Land e.V.
REFRESH-INTERVAL;VALUE=DURATION:PT1H
X-Robots-Tag:noindex
X-PUBLISHED-TTL:PT1H
BEGIN:VTIMEZONE
TZID:Europe/Berlin
BEGIN:DAYLIGHT
TZOFFSETFROM:+0100
TZOFFSETTO:+0200
TZNAME:CEST
DTSTART:20210328T010000
END:DAYLIGHT
BEGIN:STANDARD
TZOFFSETFROM:+0200
TZOFFSETTO:+0100
TZNAME:CET
DTSTART:20211031T010000
END:STANDARD
END:VTIMEZONE
BEGIN:VEVENT
DTSTART;TZID=Europe/Berlin:20210208T143000
DTEND;TZID=Europe/Berlin:20210208T150000
DTSTAMP:20260423T141654
CREATED:20210129T141807Z
LAST-MODIFIED:20210129T141807Z
UID:2627-1612794600-1612796400@oldesloer-musikschule.de
SUMMARY:Kostenlose Online-Schnupperstunde "Tänzerische Früherziehung"
DESCRIPTION:Für Kinder ab 4 Jahren bietet unsere Dozentin Nana Klamp diese kostenlose Online-Schnupperstunde an. \nAnmeldungen nehmen wir unter info@oldesloer-musikschule.de entgegen.
URL:https://oldesloer-musikschule.de/event/kostenlose-online-schnupperstunde-taenzerische-frueherziehung/
LOCATION:Ballett- und Tanzschule\, Hamburger Straße 25\, Bad Oldesloe\, 23843
CATEGORIES:Termine der Musikschule
ORGANIZER;CN="Musikschule":MAILTO:info@oldesloer-musikschule.de
END:VEVENT
END:VCALENDAR