BEGIN:VCALENDAR
VERSION:2.0
PRODID:-//Musikschule - Bildung mit Zukunft - Oldesloer Musikschule für Stadt und Land e.V. - ECPv6.3.3.1//NONSGML v1.0//EN
CALSCALE:GREGORIAN
METHOD:PUBLISH
X-ORIGINAL-URL:https://oldesloer-musikschule.de
X-WR-CALDESC:Veranstaltungen für Musikschule - Bildung mit Zukunft - Oldesloer Musikschule für Stadt und Land e.V.
REFRESH-INTERVAL;VALUE=DURATION:PT1H
X-Robots-Tag:noindex
X-PUBLISHED-TTL:PT1H
BEGIN:VTIMEZONE
TZID:Europe/Berlin
BEGIN:DAYLIGHT
TZOFFSETFROM:+0100
TZOFFSETTO:+0200
TZNAME:CEST
DTSTART:20210328T010000
END:DAYLIGHT
BEGIN:STANDARD
TZOFFSETFROM:+0200
TZOFFSETTO:+0100
TZNAME:CET
DTSTART:20211031T010000
END:STANDARD
END:VTIMEZONE
BEGIN:VEVENT
DTSTART;TZID=Europe/Berlin:20210529T100000
DTEND;TZID=Europe/Berlin:20210529T150000
DTSTAMP:20260423T100038
CREATED:20210518T133932Z
LAST-MODIFIED:20210521T103424Z
UID:3154-1622282400-1622300400@oldesloer-musikschule.de
SUMMARY:Schnuppertag der Oldesloer Musikschule für Stadt und Land e.V.
DESCRIPTION:Am 29.05.2021 können in der Zeit von 10:00 Uhr bis 15:00 Uhr  nach Anmeldung in vielen Fächern Schnupperstunden genommen sowie Beratungsstunden in Anspruch genommen werden. \nBis zum 25.05.2021 können alle Interessenten sich ganz einfach für eine Probestunde mit dem gewünschten Instrument anmelden. Dafür genügt ein Anruf unter 04531 – 80 48 98. Eine Beratung durch das Team aus dem Büro ist ebenfalls\, mit Termin\, möglich. Unsere Dozentin für Ballett & Tanz\, Nana Klamp\, freut sich ebenfalls über Interessierte. Sie ist in unseren Räumen in der Hamburger Straße zu finden. Bitte vereinbaren Sie auch für dieses Angebot einen Termin unter Tel. 04531 – 80 48 98. \nDie Kulturförderung der Stadt Bad Oldesloe unterstützt den „Schnuppertag“ im Kultur- und Bildungszentrum sowie in der Schule für Ballett & Tanz. \nZeitplan für unseren Schnuppertag: \n\n\n\n\n	LehrkraftFachZeitUnterrichtsort\n\n\n\n\n	Pocs\, SusannaGeige10:00 Uhr - 11:00 UhrMusikschule im KuB\n\n\n	Bejtlich\, RobertGeige11:30 Uhr-12:30 UhrMusikschule im KuB\n\n\n	Alfarano\, ChristinaBratsche12:00 Uhr - 13:00 UhrMusikschule im KuB\n\n\n	Lützenkirchen\, SinaCello13:00 Uhr - 14:00 UhrMusikschule im KuB\n\n\n	\n\n\n	Bejtlich\, KlaudiaQuerflöte12:00 Uhr - 13:00 UhrMusikschule im KuB\n\n\n	Albrecht-Krebs\, SusanneBlockflöte10:00 Uhr - 11:00 UhrMusikschule im KuB\n\n\n	\n\n\n	Mannes\, Till MarekAkkordeon12:00 Uhr - 13:00 UhrMusikschule im KuB\n\n\n	Klem\, NatalyaKlavier für Kinder13:00 Uhr - 14:00 UhrMusikschule im KuB\n\n\n	Dietz\, AndreaKlavier für Erwachsene14:00 Uhr - 15:00 UhrMusikschule im KuB\n\n\n	\n\n\n	Siggelkow\, RainerGitarre/Ukulele12:00 Uhr - 13:00 UhrMusikschule im KuB\n\n\n	Demirezen\, SibelBaglama/Saz13:00 Uhr - 14:00 UhrMusikschule im KuB\n\n\n	Lavrentev\, ElenaHarfe13:00 Uhr - 14:00 UhrMusikschule im KuB\n\n\n	Lavrentev\, ElenaZauberharfe/Tischharfe14:00 Uhr - 15:00 UhrMusikschule im KuB\n\n\n	\n\n\n	Ruge\, OleProducing & Songwriting/elektronische Musik10:00 Uhr - 12:00 UhrMusikschule im KuB\n\n\n	\n\n\n	Klamp\, NanaBallett & Tanz12:00 Uhr - 14:00 UhrSchule für Ballett & Tanz\, Hamburger Straße 25\n\n\n	\n\n\n	\n\n\n	\n\n\n\n\n 
URL:https://oldesloer-musikschule.de/event/schnuppertag-der-oldesloer-musikschule-fuer-stadt-und-land-e-v/
LOCATION:Kultur- und Bildungszentrum (KuB)\, Beer-Yaacov-Weg 1\, Bad Oldesloe\, 23843\, Deutschland
CATEGORIES:Termine der Musikschule
ATTACH;FMTTYPE=image/jpeg:https://oldesloer-musikschule.de/wp-content/uploads/2021/05/Schnuppertag-mit-Musik-und-Tanz.jpg
ORGANIZER;CN="Musikschule":MAILTO:info@oldesloer-musikschule.de
END:VEVENT
BEGIN:VEVENT
DTSTART;TZID=Europe/Berlin:20210529T100000
DTEND;TZID=Europe/Berlin:20210529T170000
DTSTAMP:20260423T100038
CREATED:20191205T114843Z
LAST-MODIFIED:20210507T104927Z
UID:1923-1622282400-1622307600@oldesloer-musikschule.de
SUMMARY:WIRD VERSCHOBEN! 3. Musikschulwettbewerb
DESCRIPTION:Diese Veranstaltung muss leider verschoben werden! \nBei dem Wettbewerb geht es darum\, die Lust am Musizieren zu wecken und der individuellen musikalischen Förderung der Schüler*innen\, sei es für Soloinstrumente\, Ensemblespiel\, Gesang und Tanz neue Möglichkeiten zu geben. Die Schüler*innen bekommen von einer Fachjury eine Einschätzung ihres Könnens.  \nDie Wertungsvorspiele finden am Samstag\, 29.05.2021\, ab 10 Uhr statt. \nDer Musikschulwettbewerb wird gefördert durch die Oscar- und Vera-Ritter-Stiftung\, die Sparkassen-Stiftung Stormarn und den Lions Club Stormarn.
URL:https://oldesloer-musikschule.de/event/3-musikschulwettbewerb/
LOCATION:Kultur- und Bildungszentrum (KuB)\, Beer-Yaacov-Weg 1\, Bad Oldesloe\, 23843\, Deutschland
CATEGORIES:Termine der Musikschule
ORGANIZER;CN="Musikschule":MAILTO:info@oldesloer-musikschule.de
END:VEVENT
END:VCALENDAR