BEGIN:VCALENDAR
VERSION:2.0
PRODID:-//Musikschule - Bildung mit Zukunft - Oldesloer Musikschule für Stadt und Land e.V. - ECPv6.3.3.1//NONSGML v1.0//EN
CALSCALE:GREGORIAN
METHOD:PUBLISH
X-ORIGINAL-URL:https://oldesloer-musikschule.de
X-WR-CALDESC:Veranstaltungen für Musikschule - Bildung mit Zukunft - Oldesloer Musikschule für Stadt und Land e.V.
REFRESH-INTERVAL;VALUE=DURATION:PT1H
X-Robots-Tag:noindex
X-PUBLISHED-TTL:PT1H
BEGIN:VTIMEZONE
TZID:Europe/Berlin
BEGIN:DAYLIGHT
TZOFFSETFROM:+0100
TZOFFSETTO:+0200
TZNAME:CEST
DTSTART:20210328T010000
END:DAYLIGHT
BEGIN:STANDARD
TZOFFSETFROM:+0200
TZOFFSETTO:+0100
TZNAME:CET
DTSTART:20211031T010000
END:STANDARD
END:VTIMEZONE
BEGIN:VEVENT
DTSTART;TZID=Europe/Berlin:20210814T103000
DTEND;TZID=Europe/Berlin:20210814T153000
DTSTAMP:20260423T052358
CREATED:20210624T085208Z
LAST-MODIFIED:20210624T090402Z
UID:3239-1628937000-1628955000@oldesloer-musikschule.de
SUMMARY:Schnuppertag Musikproduktion
DESCRIPTION:Der Schnuppertag „Musikproduktion“ ermöglicht einen Einblick in die Grundlagen der digitalen Musikproduktion. In drei 90-minütigen Schnupperkursen kann damit in das neue Fach „Producing & Songwriting“ reingeschnuppert werden. \nDer Schnuppertag findet am Samstag\, 14.08.2021\, mit unserem Dozenten Ole Ruge statt. Folgende Unterrichtzeiten stehen zur Auswahl: 10:30 Uhr – 12:00 Uhr\, 12:15 Uhr – 13:45 Uhr\, 14:00 Uhr – 15:30 Uhr \nEntgelt p.P./90 Minuten: € 15\,00 / erm. € 12\,50 \n  \n 
URL:https://oldesloer-musikschule.de/event/schnuppertag-musikproduktion/
LOCATION:Rathaussaal\, Bad Oldesloe\, 23843
CATEGORIES:Termine der Musikschule
ORGANIZER;CN="Musikschule":MAILTO:info@oldesloer-musikschule.de
END:VEVENT
END:VCALENDAR