BEGIN:VCALENDAR
VERSION:2.0
PRODID:-//Musikschule - Bildung mit Zukunft - Oldesloer Musikschule für Stadt und Land e.V. - ECPv6.3.3.1//NONSGML v1.0//EN
CALSCALE:GREGORIAN
METHOD:PUBLISH
X-WR-CALNAME:Musikschule - Bildung mit Zukunft - Oldesloer Musikschule für Stadt und Land e.V.
X-ORIGINAL-URL:https://oldesloer-musikschule.de
X-WR-CALDESC:Veranstaltungen für Musikschule - Bildung mit Zukunft - Oldesloer Musikschule für Stadt und Land e.V.
REFRESH-INTERVAL;VALUE=DURATION:PT1H
X-Robots-Tag:noindex
X-PUBLISHED-TTL:PT1H
BEGIN:VTIMEZONE
TZID:Europe/Berlin
BEGIN:DAYLIGHT
TZOFFSETFROM:+0100
TZOFFSETTO:+0200
TZNAME:CEST
DTSTART:20210328T010000
END:DAYLIGHT
BEGIN:STANDARD
TZOFFSETFROM:+0200
TZOFFSETTO:+0100
TZNAME:CET
DTSTART:20211031T010000
END:STANDARD
END:VTIMEZONE
BEGIN:VEVENT
DTSTART;TZID=Europe/Berlin:20210916T183000
DTEND;TZID=Europe/Berlin:20210916T193000
DTSTAMP:20260423T034717
CREATED:20210909T111505Z
LAST-MODIFIED:20210910T084904Z
UID:3338-1631817000-1631820600@oldesloer-musikschule.de
SUMMARY:WORKSHOP DigitalEnsemble
DESCRIPTION:WORKSHOP—WORKSHOP—WORKSHOP \nDie Musikschule gründet ein ganz neues DigitalEnsemble unter Leitung der multimedialen Komponistin und Saxophonistin Jana De Troyer. \nFür alle die schon immer einmal mit Apps musizieren wollten\, hält die Musikschule nun etwas ganz besonderes und neues bereit: Die Musikschule gründet ihr hauseigenes DigitalEnsemble. Das Musizieren mit Apps in einer kleinen Gruppe sowie das gemeinsame Musizieren mit traditionellen Instrumenten ist hier möglich und geplant. Daher sind alle aufgerufen\, zum Schnupperangebot am Donnerstag\, 16.09.2021\, von 18:30 Uhr bis 19:30 Uhr in das Kultur- und Bildungszentrum zu kommen\, die schon ein Instrument spielen und auch alle\, die eben noch kein Instrument spielen. Denn dieses neue Ensemble entdeckt das Handy oder das iPad durch gemeinsames Musizieren und Improvisieren mit Apps als ein neues Instrument. \nDer Workshop ist kostenfrei. Das Ensembleangebot findet 14-tägig ebenfalls am Donnerstag statt. Es gibt keine Altersbegrenzung. Ein iPad wird für das Angebot von der Musikschule gestellt. \nTermin: Donnerstag\, 16.09.2021\, 18:30 Uhr bis 19:30 Uhr im Kultur- und Bildungszentrum \nOrt: Oldesloer Musikschule für Stadt und Land e.V.\, Beer-Yaacov-Weg 1\, 23843 Bad Oldesloe \nDozentin: Jana De Troyer \nAnmeldungen sind über das Anmeldeformular möglich.
URL:https://oldesloer-musikschule.de/event/workshop-digitalensemble/
LOCATION:Kultur- und Bildungszentrum (KuB)\, Beer-Yaacov-Weg 1\, Bad Oldesloe\, 23843\, Deutschland
CATEGORIES:Termine der Musikschule
ATTACH;FMTTYPE=image/jpeg:https://oldesloer-musikschule.de/wp-content/uploads/2021/09/Copyright-StockSnap.jpg
ORGANIZER;CN="Musikschule":MAILTO:info@oldesloer-musikschule.de
END:VEVENT
END:VCALENDAR