BEGIN:VCALENDAR
VERSION:2.0
PRODID:-//Musikschule - Bildung mit Zukunft - Oldesloer Musikschule für Stadt und Land e.V. - ECPv6.3.3.1//NONSGML v1.0//EN
CALSCALE:GREGORIAN
METHOD:PUBLISH
X-ORIGINAL-URL:https://oldesloer-musikschule.de
X-WR-CALDESC:Veranstaltungen für Musikschule - Bildung mit Zukunft - Oldesloer Musikschule für Stadt und Land e.V.
REFRESH-INTERVAL;VALUE=DURATION:PT1H
X-Robots-Tag:noindex
X-PUBLISHED-TTL:PT1H
BEGIN:VTIMEZONE
TZID:Europe/Berlin
BEGIN:DAYLIGHT
TZOFFSETFROM:+0100
TZOFFSETTO:+0200
TZNAME:CEST
DTSTART:20220327T010000
END:DAYLIGHT
BEGIN:STANDARD
TZOFFSETFROM:+0200
TZOFFSETTO:+0100
TZNAME:CET
DTSTART:20221030T010000
END:STANDARD
END:VTIMEZONE
BEGIN:VEVENT
DTSTART;TZID=Europe/Berlin:20220130T160000
DTEND;TZID=Europe/Berlin:20220130T180000
DTSTAMP:20260422T210547
CREATED:20211119T103105Z
LAST-MODIFIED:20220120T132816Z
UID:3437-1643558400-1643565600@oldesloer-musikschule.de
SUMMARY:WIRD VERSCHOBEN! Neujahrskonzert mit Dozierenden der Oldesloer Musikschule
DESCRIPTION:DIESE VERANSTALTUNG WIRD VERSCHOBEN! \nDozierende der Oldesloer Musikschule präsentieren Ihr Können mit Instrument und Stimme in einem stimmungsvollen genreübergreifenden Konzert. \nOrt: KuB-Saal \nZeit: 16:00 Uhr\, Einlass ab 15:30 Uhr \nEintritt: € 8\,00 / erm. € 6\,00 \nTickets erhalten Sie bei der Stadtinfo im KuB\, Tel. 04531 504 199 oder im Online-Ticketverkauf. \nBitte bringen Sie ein gültiges Ausweisdokument (z.B. Personalausweis) mit und weisen Sie beim Einlass den vollständigen Impfschutz oder die Genesung nach (2G-Regel). Personen\, die aus medizinischen Gründen nicht geimpft werden können\, legen bitte eine ärztliche Bescheinigung und ein aktuelles negatives Covid-19-Testergebnis vor. Kinder bis einschließlich 6 Jahre benötigen keinen 2G-Nachweis. Bei Schüler*innen unter 18 Jahren genügt die Vorlage einer Bescheinigung der Schule\, dass sie zweimal wöchentlich in der Schule getestet werden.
URL:https://oldesloer-musikschule.de/event/neujahrskonzert-mit-dozierenden-der-oldesloer-musikschule/
LOCATION:Kultur- und Bildungszentrum (KuB)\, Beer-Yaacov-Weg 1\, Bad Oldesloe\, 23843\, Deutschland
CATEGORIES:Termine der Musikschule
ORGANIZER;CN="Musikschule":MAILTO:info@oldesloer-musikschule.de
END:VEVENT
END:VCALENDAR