BEGIN:VCALENDAR
VERSION:2.0
PRODID:-//Musikschule - Bildung mit Zukunft - Oldesloer Musikschule für Stadt und Land e.V. - ECPv6.3.3.1//NONSGML v1.0//EN
CALSCALE:GREGORIAN
METHOD:PUBLISH
X-WR-CALNAME:Musikschule - Bildung mit Zukunft - Oldesloer Musikschule für Stadt und Land e.V.
X-ORIGINAL-URL:https://oldesloer-musikschule.de
X-WR-CALDESC:Veranstaltungen für Musikschule - Bildung mit Zukunft - Oldesloer Musikschule für Stadt und Land e.V.
REFRESH-INTERVAL;VALUE=DURATION:PT1H
X-Robots-Tag:noindex
X-PUBLISHED-TTL:PT1H
BEGIN:VTIMEZONE
TZID:Europe/Berlin
BEGIN:DAYLIGHT
TZOFFSETFROM:+0100
TZOFFSETTO:+0200
TZNAME:CEST
DTSTART:20220327T010000
END:DAYLIGHT
BEGIN:STANDARD
TZOFFSETFROM:+0200
TZOFFSETTO:+0100
TZNAME:CET
DTSTART:20221030T010000
END:STANDARD
END:VTIMEZONE
BEGIN:VEVENT
DTSTART;TZID=Europe/Berlin:20220327T160000
DTEND;TZID=Europe/Berlin:20220327T170000
DTSTAMP:20260422T175004
CREATED:20220201T083119Z
LAST-MODIFIED:20220322T073614Z
UID:3532-1648396800-1648400400@oldesloer-musikschule.de
SUMMARY:WIRD VERSCHOBEN auf den 11.09.2022! BE | EIN | FLUSST
DESCRIPTION:Diese Veranstaltung muss leider verschoben werden\, neuer Termin am 11.09.2022! \nTanzen unter anderen Bedingungen. \nEine tänzerische Retrospektive der letzten zwei Jahre – in verschiedenen Stilen. \nSa. 26.03. & So. 27.03.2022\, Festhalle\, 16 Uhr\, Einlass 15:30 Uhr \nEintritt: € 12\,50 / erm. € 10\,00 \nTickets erhalten Sie in der Stadtinfo im KuB\, Tel. 04531 504 199 oder über den Online-Ticketverkauf. \nZur Zeit gilt die 3G-Regel\, bitte bringen Sie zu der Veranstaltung ein gültiges Ausweisdokument (z.B. Personalausweis) mit und legen Sie Ihren Impf-\, Test- oder Genesenennachweis vor. Kinder bis einschließlich 6 Jahre benötigen keinen Nachweis. Bei Schüler*innen unter 18 Jahren genügt die Vorlage einer Bescheinigung der Schule\, dass sie zweimal wöchentlich in der Schule getestet werden.
URL:https://oldesloer-musikschule.de/event/be-ein-flusst-2/
LOCATION:Festhalle\, Bad Oldesloe\, 23843\, Deutschland
CATEGORIES:Termine der Musikschule
ATTACH;FMTTYPE=image/jpeg:https://oldesloer-musikschule.de/wp-content/uploads/2022/02/Poster_Beeinflusst_A1-7_500x706.jpg
ORGANIZER;CN="Musikschule":MAILTO:info@oldesloer-musikschule.de
END:VEVENT
END:VCALENDAR