BEGIN:VCALENDAR
VERSION:2.0
PRODID:-//Musikschule - Bildung mit Zukunft - Oldesloer Musikschule für Stadt und Land e.V. - ECPv6.3.3.1//NONSGML v1.0//EN
CALSCALE:GREGORIAN
METHOD:PUBLISH
X-ORIGINAL-URL:https://oldesloer-musikschule.de
X-WR-CALDESC:Veranstaltungen für Musikschule - Bildung mit Zukunft - Oldesloer Musikschule für Stadt und Land e.V.
REFRESH-INTERVAL;VALUE=DURATION:PT1H
X-Robots-Tag:noindex
X-PUBLISHED-TTL:PT1H
BEGIN:VTIMEZONE
TZID:Europe/Berlin
BEGIN:DAYLIGHT
TZOFFSETFROM:+0100
TZOFFSETTO:+0200
TZNAME:CEST
DTSTART:20220327T010000
END:DAYLIGHT
BEGIN:STANDARD
TZOFFSETFROM:+0200
TZOFFSETTO:+0100
TZNAME:CET
DTSTART:20221030T010000
END:STANDARD
END:VTIMEZONE
BEGIN:VEVENT
DTSTART;TZID=Europe/Berlin:20220404T103000
DTEND;TZID=Europe/Berlin:20220408T153000
DTSTAMP:20260422T162207
CREATED:20220211T134841Z
LAST-MODIFIED:20220211T135025Z
UID:3599-1649068200-1649431800@oldesloer-musikschule.de
SUMMARY:Feriencamp - natürlich - künstlerisch - verbinden
DESCRIPTION:Kreativ-musikalische Naturerlebniswoche für Kinder von 6 – 10 Jahren \nMit allen Sinnen wollen wir mit der Verbindung zur Natur ganzheitlich das Thema „Bäume“ erkunden. Die Kinder erleben fünf Tage voller Farben\, Sinne\, Bewegung\, Musik und Experimente. \nWann? Montag\, 04.04.2022 bis Freitag\, 08.04.2022\, täglich 10:30 Uhr – 15:30 Uhr \nWo? „Atelier Binderine“ im alfaPark\, Schillerstraße 22\, Reinfeld \nReferent*innen: Ellen Studtfeld\, Berenike Alexandra Binder und Lina Klingebeil \nEntgelt: p.P.: € 20\,00 / Woche \nWeitere Informationen finden Sie unter Workshops.
URL:https://oldesloer-musikschule.de/event/feriencamp-natuerlich-kuenstlerisch-verbinden/
LOCATION:Atelier Binderina\, Schillerstraße 22\, Reinfeld\, 23858
CATEGORIES:Termine der Musikschule
ATTACH;FMTTYPE=image/jpeg:https://oldesloer-musikschule.de/wp-content/uploads/2022/02/Poster_Naturerlebnis_A1-6_B.jpg
ORGANIZER;CN="Musikschule":MAILTO:info@oldesloer-musikschule.de
END:VEVENT
END:VCALENDAR