BEGIN:VCALENDAR
VERSION:2.0
PRODID:-//Musikschule - Bildung mit Zukunft - Oldesloer Musikschule für Stadt und Land e.V. - ECPv6.3.3.1//NONSGML v1.0//EN
CALSCALE:GREGORIAN
METHOD:PUBLISH
X-ORIGINAL-URL:https://oldesloer-musikschule.de
X-WR-CALDESC:Veranstaltungen für Musikschule - Bildung mit Zukunft - Oldesloer Musikschule für Stadt und Land e.V.
REFRESH-INTERVAL;VALUE=DURATION:PT1H
X-Robots-Tag:noindex
X-PUBLISHED-TTL:PT1H
BEGIN:VTIMEZONE
TZID:Europe/Berlin
BEGIN:DAYLIGHT
TZOFFSETFROM:+0100
TZOFFSETTO:+0200
TZNAME:CEST
DTSTART:20220327T010000
END:DAYLIGHT
BEGIN:STANDARD
TZOFFSETFROM:+0200
TZOFFSETTO:+0100
TZNAME:CET
DTSTART:20221030T010000
END:STANDARD
END:VTIMEZONE
BEGIN:VEVENT
DTSTART;TZID=Europe/Berlin:20220626T160000
DTEND;TZID=Europe/Berlin:20220626T180000
DTSTAMP:20260422T125545
CREATED:20211210T094914Z
LAST-MODIFIED:20220616T070220Z
UID:3473-1656259200-1656266400@oldesloer-musikschule.de
SUMMARY:Tuishi pamoja – das Kindermusical
DESCRIPTION:Aufführung des Musicalkurses der Oldesloer Musikschule für Stadt und Land e.V. \nSeit Jahren leben die Herden von Giraffenkind Raffi und dem kleinen Zebra Zea nebeneinander\, ohne aber miteinander zu reden. Und so stellen sich die Beiden wichtige Fragen: Machen Streifen wirklich doof? Kann man mit langhalsigen Tieren sowieso nicht vernünftig reden? Doch Raffi und Zea werfen alle Vorurteile und Gewohnheiten ihrer Herden über den Haufen und werden Freunde\, auch wenn einer gestreift ist und der andere Punkte auf dem Fell hat und beschließen „Tuishi pamoja“. Das ist Swahili und bedeutet WIR WOLLEN ZUSAMMEN LEBEN. \nEine Geschichte mit afrikanisch-grooviger Musik. \nSamstag\, 25.06.2022 und Sonntag\, 26.06.2022\, Festhalle Bad Oldesloe\, 16 Uhr \nEintritt: € 12\,50 / erm. € 10\,00 \nTickets erhalten Sie in der Stadtinfo im KuB\, Tel. 04531 504 199 oder über den Online-Ticketverkauf. \nBereits erworbene Tickets behalten ihre Gültigkeit\, Tickets für die Aufführung am Freitag/Samstag sind am Samstag\, 25.06.22\, gültig. Tickets für die Aufführung am Sonntag sind am Sonntag\, 26.06.2022\, gültig. Bei Nichtnutzung können die Alttickets bis zum 03.07.2022 bei der Stadtinfo im KuB zurückgegeben werden.
URL:https://oldesloer-musikschule.de/event/tuishi-pamoja-das-kindermusical-4/
LOCATION:Festhalle\, Bad Oldesloe\, 23843\, Deutschland
CATEGORIES:Termine der Musikschule
ATTACH;FMTTYPE=image/jpeg:https://oldesloer-musikschule.de/wp-content/uploads/2019/06/tuishi_pamoja_plakat_a1-1.jpg
ORGANIZER;CN="Musikschule":MAILTO:info@oldesloer-musikschule.de
END:VEVENT
END:VCALENDAR