BEGIN:VCALENDAR
VERSION:2.0
PRODID:-//Musikschule - Bildung mit Zukunft - Oldesloer Musikschule für Stadt und Land e.V. - ECPv6.3.3.1//NONSGML v1.0//EN
CALSCALE:GREGORIAN
METHOD:PUBLISH
X-WR-CALNAME:Musikschule - Bildung mit Zukunft - Oldesloer Musikschule für Stadt und Land e.V.
X-ORIGINAL-URL:https://oldesloer-musikschule.de
X-WR-CALDESC:Veranstaltungen für Musikschule - Bildung mit Zukunft - Oldesloer Musikschule für Stadt und Land e.V.
REFRESH-INTERVAL;VALUE=DURATION:PT1H
X-Robots-Tag:noindex
X-PUBLISHED-TTL:PT1H
BEGIN:VTIMEZONE
TZID:Europe/Berlin
BEGIN:DAYLIGHT
TZOFFSETFROM:+0100
TZOFFSETTO:+0200
TZNAME:CEST
DTSTART:20220327T010000
END:DAYLIGHT
BEGIN:STANDARD
TZOFFSETFROM:+0200
TZOFFSETTO:+0100
TZNAME:CET
DTSTART:20221030T010000
END:STANDARD
END:VTIMEZONE
BEGIN:VEVENT
DTSTART;TZID=Europe/Berlin:20220822T143000
DTEND;TZID=Europe/Berlin:20220826T170000
DTSTAMP:20260422T095623
CREATED:20220630T120530Z
LAST-MODIFIED:20220630T120530Z
UID:3961-1661178600-1661533200@oldesloer-musikschule.de
SUMMARY:Woche der offenen Tür - Schule für Ballett & Tanz
DESCRIPTION:In der Woche der offenen Tür öffnen wir Türen und Fenster unserer Schule für Ballett & Tanz für alle Interessierten. \nMontag\, 22.08.22 – Freitag\, 26.08.22
URL:https://oldesloer-musikschule.de/event/woche-der-offenen-tuer-schule-fuer-ballett-tanz-4/
LOCATION:Ballett- und Tanzschule\, Hamburger Straße 25\, Bad Oldesloe\, 23843
CATEGORIES:Termine der Musikschule
ORGANIZER;CN="Musikschule":MAILTO:info@oldesloer-musikschule.de
END:VEVENT
BEGIN:VEVENT
DTSTART;TZID=Europe/Berlin:20220823T150000
DTEND;TZID=Europe/Berlin:20220823T163000
DTSTAMP:20260422T095623
CREATED:20220531T122437Z
LAST-MODIFIED:20220816T123802Z
UID:3857-1661266800-1661272200@oldesloer-musikschule.de
SUMMARY:Junge Kunstwerkstatt für Kinder von 6 bis 12 Jahren
DESCRIPTION:Junge Kunstwerkstatt für Kinder von 6 bis 12 Jahren \nIn Kooperation der Oldesloer Musikschule mit dem Atelier Binderina kannst du im Monatskurs „Junge Kunstwerkstatt“ Deine Kreativität voll entfalten.\nUnter der Leitung der Kunstpädagogin und Künstlerin Berenike Binder malst du frei mit Gouachefarben auf großen Formaten\, kannst mit Pappmache oder Ton bauen und verschiedene Techniken\, wie Aquarell oder Pigment\, verwenden. Du schreibst mit Feder und Tinte und druckst mit Linolfarbe.\nDas Atelier ist so ausgestattet\, dass du auch parallel in Ruhe Dinge ausprobieren und erforschen kannst\, die dich interessieren. Um das Atelier ist ein großer Park\, hier kannst du dich auch mit der Natur beschäftigen. \nUnterrichtstage:  23.08.\, 30.08.\, 06.09.\, 27.09.2022 15:00 Uhr bis 16:30 Uhr \nNähere Infos erhalten Sie unter Workshops.
URL:https://oldesloer-musikschule.de/event/junge-kunstwerkstatt-fuer-kinder-von-6-bis-12-jahren/
LOCATION:Atelier Binderina\, Schillerstraße 22\, Reinfeld\, 23858
CATEGORIES:Termine der Musikschule
ORGANIZER;CN="Musikschule":MAILTO:info@oldesloer-musikschule.de
END:VEVENT
END:VCALENDAR