BEGIN:VCALENDAR
VERSION:2.0
PRODID:-//Musikschule - Bildung mit Zukunft - Oldesloer Musikschule für Stadt und Land e.V. - ECPv6.3.3.1//NONSGML v1.0//EN
CALSCALE:GREGORIAN
METHOD:PUBLISH
X-ORIGINAL-URL:https://oldesloer-musikschule.de
X-WR-CALDESC:Veranstaltungen für Musikschule - Bildung mit Zukunft - Oldesloer Musikschule für Stadt und Land e.V.
REFRESH-INTERVAL;VALUE=DURATION:PT1H
X-Robots-Tag:noindex
X-PUBLISHED-TTL:PT1H
BEGIN:VTIMEZONE
TZID:Europe/Berlin
BEGIN:DAYLIGHT
TZOFFSETFROM:+0100
TZOFFSETTO:+0200
TZNAME:CEST
DTSTART:20220327T010000
END:DAYLIGHT
BEGIN:STANDARD
TZOFFSETFROM:+0200
TZOFFSETTO:+0100
TZNAME:CET
DTSTART:20221030T010000
END:STANDARD
END:VTIMEZONE
BEGIN:VEVENT
DTSTART;TZID=Europe/Berlin:20220904T100000
DTEND;TZID=Europe/Berlin:20220904T123000
DTSTAMP:20260422T100450
CREATED:20220630T093605Z
LAST-MODIFIED:20220902T075223Z
UID:3894-1662285600-1662294600@oldesloer-musikschule.de
SUMMARY:Streichwerkstatt "Streichen ist klasse!"
DESCRIPTION:An diesem Tag erfahren alle Interessierten mehr über die Präzision des solistischen und des gemeinsamen Musizierens in der Kammermusik. Wir wollen gemeinsam musizieren und ihr erhaltet Einblicke in die Probenarbeit hinsichtlich Technikarbeit\, Arbeit an Dynamik und Interpretation. \nUnterrichtstag: Sonntag\, 04.09.22\, 10 Uhr – 12:30 Uhr \nLeitung: M. Christina Andrei-Alfarano \nOrt: KuB \nEntgeltfrei \nGefördert durch AUF!leben  \nAnmeldung für diese Veranstaltung bitte über unser Anmeldeformular\, vielen Dank!
URL:https://oldesloer-musikschule.de/event/streichwerkstatt-streichen-ist-klasse/
LOCATION:Kultur- und Bildungszentrum (KuB)\, Beer-Yaacov-Weg 1\, Bad Oldesloe\, 23843\, Deutschland
CATEGORIES:Termine der Musikschule
ORGANIZER;CN="Musikschule":MAILTO:info@oldesloer-musikschule.de
END:VEVENT
END:VCALENDAR