BEGIN:VCALENDAR
VERSION:2.0
PRODID:-//Musikschule - Bildung mit Zukunft - Oldesloer Musikschule für Stadt und Land e.V. - ECPv6.3.3.1//NONSGML v1.0//EN
CALSCALE:GREGORIAN
METHOD:PUBLISH
X-WR-CALNAME:Musikschule - Bildung mit Zukunft - Oldesloer Musikschule für Stadt und Land e.V.
X-ORIGINAL-URL:https://oldesloer-musikschule.de
X-WR-CALDESC:Veranstaltungen für Musikschule - Bildung mit Zukunft - Oldesloer Musikschule für Stadt und Land e.V.
REFRESH-INTERVAL;VALUE=DURATION:PT1H
X-Robots-Tag:noindex
X-PUBLISHED-TTL:PT1H
BEGIN:VTIMEZONE
TZID:Europe/Berlin
BEGIN:DAYLIGHT
TZOFFSETFROM:+0100
TZOFFSETTO:+0200
TZNAME:CEST
DTSTART:20220327T010000
END:DAYLIGHT
BEGIN:STANDARD
TZOFFSETFROM:+0200
TZOFFSETTO:+0100
TZNAME:CET
DTSTART:20221030T010000
END:STANDARD
END:VTIMEZONE
BEGIN:VEVENT
DTSTART;TZID=Europe/Berlin:20220911T160000
DTEND;TZID=Europe/Berlin:20220911T170000
DTSTAMP:20260422T081846
CREATED:20220322T075612Z
LAST-MODIFIED:20220322T082409Z
UID:3678-1662912000-1662915600@oldesloer-musikschule.de
SUMMARY:BE | EIN | FLUSST
DESCRIPTION:Tanzen unter anderen Bedingungen. \nEine tänzerische Retrospektive der letzten zwei Jahre – in verschiedenen Stilen. \nSa. 10.09. & So. 11.09.2022\, Festhalle\, 16 Uhr\, Einlass ab 15:30 Uhr \nEintritt: € 12\,50 / erm. € 10\,00 \nTickets erhalten Sie in der Stadtinfo im KuB\, Tel. 04531 504 199 oder über den Online-Ticketverkauf.
URL:https://oldesloer-musikschule.de/event/be-ein-flusst-4/
LOCATION:Festhalle\, Bad Oldesloe\, 23843\, Deutschland
CATEGORIES:Termine der Musikschule
ATTACH;FMTTYPE=image/jpeg:https://oldesloer-musikschule.de/wp-content/uploads/2022/03/Poster_Beeinflusst_A1-8_September500x706.jpg
ORGANIZER;CN="Musikschule":MAILTO:info@oldesloer-musikschule.de
END:VEVENT
END:VCALENDAR