BEGIN:VCALENDAR
VERSION:2.0
PRODID:-//Musikschule - Bildung mit Zukunft - Oldesloer Musikschule für Stadt und Land e.V. - ECPv6.3.3.1//NONSGML v1.0//EN
CALSCALE:GREGORIAN
METHOD:PUBLISH
X-ORIGINAL-URL:https://oldesloer-musikschule.de
X-WR-CALDESC:Veranstaltungen für Musikschule - Bildung mit Zukunft - Oldesloer Musikschule für Stadt und Land e.V.
REFRESH-INTERVAL;VALUE=DURATION:PT1H
X-Robots-Tag:noindex
X-PUBLISHED-TTL:PT1H
BEGIN:VTIMEZONE
TZID:Europe/Berlin
BEGIN:DAYLIGHT
TZOFFSETFROM:+0100
TZOFFSETTO:+0200
TZNAME:CEST
DTSTART:20220327T010000
END:DAYLIGHT
BEGIN:STANDARD
TZOFFSETFROM:+0200
TZOFFSETTO:+0100
TZNAME:CET
DTSTART:20221030T010000
END:STANDARD
END:VTIMEZONE
BEGIN:VEVENT
DTSTART;TZID=Europe/Berlin:20220918T130000
DTEND;TZID=Europe/Berlin:20220918T170000
DTSTAMP:20260422T082544
CREATED:20211210T094713Z
LAST-MODIFIED:20220808T102654Z
UID:3471-1663506000-1663520400@oldesloer-musikschule.de
SUMMARY:Tuishi pamoja - das Kindermusical
DESCRIPTION:Aufführung des Musicalkurses der Oldesloer Musikschule für Stadt und Land e.V. \nSeit Jahren leben die Herden von Giraffenkind Raffi und dem kleinen Zebra Zea nebeneinander\, ohne aber miteinander zu reden. Und so stellen sich die Beiden wichtige Fragen: Machen Streifen wirklich doof? Kann man mit langhalsigen Tieren sowieso nicht vernünftig reden? Doch Raffi und Zea werfen alle Vorurteile und Gewohnheiten ihrer Herden über den Haufen und werden Freunde\, auch wenn einer gestreift ist und der andere Punkte auf dem Fell hat und beschließen „Tuishi pamoja“. Das ist Swahili und bedeutet WIR WOLLEN ZUSAMMEN LEBEN. \nEine Geschichte mit afrikanisch-grooviger Musik. \nSonntag\, 18.09.2022\, KuB-Saal\, Kultur- und Bildungszentrum Bad Oldesloe\, 13 Uhr und 16 Uhr. \nEintritt: € 12\,50 / erm. € 10\,00 \nTickets erhalten Sie in der Stadtinfo im KuB\, Tel. 04531 504 199 oder für die Vorstellung um 13 Uhr: Online-Ticketverkauf bzw. für die Vorstellung um 16 Uhr: Online-Ticketverkauf  \n 
URL:https://oldesloer-musikschule.de/event/tuishi-pamoja-das-kindermusical-3/
LOCATION:Kultur- und Bildungszentrum (KuB)\, Beer-Yaacov-Weg 1\, Bad Oldesloe\, 23843\, Deutschland
CATEGORIES:Termine der Musikschule
ATTACH;FMTTYPE=image/jpeg:https://oldesloer-musikschule.de/wp-content/uploads/2019/06/tuishi_pamoja_plakat_a1-1.jpg
ORGANIZER;CN="Musikschule":MAILTO:info@oldesloer-musikschule.de
END:VEVENT
END:VCALENDAR