BEGIN:VCALENDAR
VERSION:2.0
PRODID:-//Musikschule - Bildung mit Zukunft - Oldesloer Musikschule für Stadt und Land e.V. - ECPv6.3.3.1//NONSGML v1.0//EN
CALSCALE:GREGORIAN
METHOD:PUBLISH
X-ORIGINAL-URL:https://oldesloer-musikschule.de
X-WR-CALDESC:Veranstaltungen für Musikschule - Bildung mit Zukunft - Oldesloer Musikschule für Stadt und Land e.V.
REFRESH-INTERVAL;VALUE=DURATION:PT1H
X-Robots-Tag:noindex
X-PUBLISHED-TTL:PT1H
BEGIN:VTIMEZONE
TZID:Europe/Berlin
BEGIN:DAYLIGHT
TZOFFSETFROM:+0100
TZOFFSETTO:+0200
TZNAME:CEST
DTSTART:20220327T010000
END:DAYLIGHT
BEGIN:STANDARD
TZOFFSETFROM:+0200
TZOFFSETTO:+0100
TZNAME:CET
DTSTART:20221030T010000
END:STANDARD
END:VTIMEZONE
BEGIN:VEVENT
DTSTART;TZID=Europe/Berlin:20221106T093000
DTEND;TZID=Europe/Berlin:20221106T170000
DTSTAMP:20260422T050204
CREATED:20220311T080358Z
LAST-MODIFIED:20220421T133602Z
UID:3649-1667727000-1667754000@oldesloer-musikschule.de
SUMMARY:Workshop „Estill Voice Training“ mit Prof. Marc Secara
DESCRIPTION:Wie funktioniert die menschliche Stimme und wie genau gelingt es mir\, verschiedene Stimmqualitäten zu erzeugen? Wie erreiche ich meine stimmlichen Ziele effektiv und schnell? Wie kann ich gezielt meine gesangstechnischen Probleme lösen oder meinen Sound verbessern? \nDie Oldesloer Musikschule konnte für diesen Einführungstag in die wissenschaftlich fundierte Methode des „Estill Voice Training“ Prof. Marc Secara aus Berlin gewinnen. Marc Secara ist Professor für Gesang an der Hochschule für populäre Künste Berlin\, Estill Master Trainer und gehört zu den bekannten Vertretern des neuen deutschen Jazz- und Popgesangs. Er ist u.a. Gaststar in Jazzprogrammen des Deutschen Sinfonie Orchesters Berlin\, des Deutsche Oper Orchester und der NDR Big Band und stand mit Künstlern wie Thomas Quasthoff\, Paul Kuhn und Peter Herbolzheimer auf der Bühne. \nUnterrichtstag:          So. 06.11.2022\, 9:30 Uhr – 17 Uhr \nLeitung:                          Prof. Marc Secara \nOrt:                                    KuB-Saal\, 23843 Bad Oldesloe \nEntgelt p.P.:                  € 50\,00 / erm. € 35\,00; für Schüler*innen der Oldesloer Musikschule entgeltfrei \nNähere Informationen erhalten Sie unter Workshops. \n 
URL:https://oldesloer-musikschule.de/event/workshop-estill-voice-training-mit-prof-marc-secara-2/
LOCATION:Kultur- und Bildungszentrum (KuB)\, Beer-Yaacov-Weg 1\, Bad Oldesloe\, 23843\, Deutschland
CATEGORIES:Termine der Musikschule
ATTACH;FMTTYPE=image/jpeg:https://oldesloer-musikschule.de/wp-content/uploads/2022/03/Estill_Voice_Workshop_A1-2_November500x706.jpg
ORGANIZER;CN="Musikschule":MAILTO:info@oldesloer-musikschule.de
END:VEVENT
END:VCALENDAR