BEGIN:VCALENDAR
VERSION:2.0
PRODID:-//Musikschule - Bildung mit Zukunft - Oldesloer Musikschule für Stadt und Land e.V. - ECPv6.3.3.1//NONSGML v1.0//EN
CALSCALE:GREGORIAN
METHOD:PUBLISH
X-ORIGINAL-URL:https://oldesloer-musikschule.de
X-WR-CALDESC:Veranstaltungen für Musikschule - Bildung mit Zukunft - Oldesloer Musikschule für Stadt und Land e.V.
REFRESH-INTERVAL;VALUE=DURATION:PT1H
X-Robots-Tag:noindex
X-PUBLISHED-TTL:PT1H
BEGIN:VTIMEZONE
TZID:Europe/Berlin
BEGIN:DAYLIGHT
TZOFFSETFROM:+0100
TZOFFSETTO:+0200
TZNAME:CEST
DTSTART:20230326T010000
END:DAYLIGHT
BEGIN:STANDARD
TZOFFSETFROM:+0200
TZOFFSETTO:+0100
TZNAME:CET
DTSTART:20231029T010000
END:STANDARD
END:VTIMEZONE
BEGIN:VEVENT
DTSTART;VALUE=DATE:20230417
DTEND;VALUE=DATE:20230422
DTSTAMP:20260421T202736
CREATED:20230228T124259Z
LAST-MODIFIED:20230228T124259Z
UID:4251-1681689600-1682121599@oldesloer-musikschule.de
SUMMARY:Naturerlebniswoche - Erde-Kunst-Achtsamkeit
DESCRIPTION:künstlerisch-musikalische Naturerlebniswoche für Kinder von 6 – 10 Jahren \nMontag\, 17.04.2023\, bis Freitag\, 21.04.2023\, 10:30 Uhr – 15:30 Uhr \nIm „Atelier Binderina“ im alfaPark\, Schillerstraße 22\, Reinfeld \nWeitere Informationen erhalten Sie unter Workshops.
URL:https://oldesloer-musikschule.de/event/naturerlebniswoche-erde-kunst-achtsamkeit/
LOCATION:Atelier Binderina\, Schillerstraße 22\, Reinfeld\, 23858
CATEGORIES:Termine der Musikschule
ATTACH;FMTTYPE=image/jpeg:https://oldesloer-musikschule.de/wp-content/uploads/2023/02/Poster_Naturerlebnis_A1-3_HP.jpg
ORGANIZER;CN="Musikschule":MAILTO:info@oldesloer-musikschule.de
END:VEVENT
END:VCALENDAR