BEGIN:VCALENDAR
VERSION:2.0
PRODID:-//Musikschule - Bildung mit Zukunft - Oldesloer Musikschule für Stadt und Land e.V. - ECPv6.3.3.1//NONSGML v1.0//EN
CALSCALE:GREGORIAN
METHOD:PUBLISH
X-WR-CALNAME:Musikschule - Bildung mit Zukunft - Oldesloer Musikschule für Stadt und Land e.V.
X-ORIGINAL-URL:https://oldesloer-musikschule.de
X-WR-CALDESC:Veranstaltungen für Musikschule - Bildung mit Zukunft - Oldesloer Musikschule für Stadt und Land e.V.
REFRESH-INTERVAL;VALUE=DURATION:PT1H
X-Robots-Tag:noindex
X-PUBLISHED-TTL:PT1H
BEGIN:VTIMEZONE
TZID:Europe/Berlin
BEGIN:DAYLIGHT
TZOFFSETFROM:+0100
TZOFFSETTO:+0200
TZNAME:CEST
DTSTART:20230326T010000
END:DAYLIGHT
BEGIN:STANDARD
TZOFFSETFROM:+0200
TZOFFSETTO:+0100
TZNAME:CET
DTSTART:20231029T010000
END:STANDARD
END:VTIMEZONE
BEGIN:VEVENT
DTSTART;TZID=Europe/Berlin:20230909T100000
DTEND;TZID=Europe/Berlin:20230909T160000
DTSTAMP:20260421T115838
CREATED:20230717T074350Z
LAST-MODIFIED:20230901T110804Z
UID:4491-1694253600-1694275200@oldesloer-musikschule.de
SUMMARY:Tag der offenen Musikschule beim KuB-Tag
DESCRIPTION:Instrumente und Gesang ausprobieren\, Ensembleangebote\, kleine Konzerte\, Vorspiele und Beratung für alle bietet die Musikschule im Rahmen dieses Schnuppertages an. \nWeitere Infos finden Sie unter Neuigkeiten. \nSamstag\, 09.09.2023\, Räume der Musikschule und KuB-Saal\, 10 Uhr – 16 Uhr. \n 
URL:https://oldesloer-musikschule.de/event/tag-der-offenen-musikschule-beim-kub-tag/
LOCATION:Kultur- und Bildungszentrum (KuB)\, Beer-Yaacov-Weg 1\, Bad Oldesloe\, 23843\, Deutschland
CATEGORIES:Termine der Musikschule
ATTACH;FMTTYPE=image/jpeg:https://oldesloer-musikschule.de/wp-content/uploads/2023/09/mmexport1563857227047.jpg
ORGANIZER;CN="Musikschule":MAILTO:info@oldesloer-musikschule.de
END:VEVENT
END:VCALENDAR