BEGIN:VCALENDAR
VERSION:2.0
PRODID:-//Musikschule - Bildung mit Zukunft - Oldesloer Musikschule für Stadt und Land e.V. - ECPv6.3.3.1//NONSGML v1.0//EN
CALSCALE:GREGORIAN
METHOD:PUBLISH
X-ORIGINAL-URL:https://oldesloer-musikschule.de
X-WR-CALDESC:Veranstaltungen für Musikschule - Bildung mit Zukunft - Oldesloer Musikschule für Stadt und Land e.V.
REFRESH-INTERVAL;VALUE=DURATION:PT1H
X-Robots-Tag:noindex
X-PUBLISHED-TTL:PT1H
BEGIN:VTIMEZONE
TZID:Europe/Berlin
BEGIN:DAYLIGHT
TZOFFSETFROM:+0100
TZOFFSETTO:+0200
TZNAME:CEST
DTSTART:20240331T010000
END:DAYLIGHT
BEGIN:STANDARD
TZOFFSETFROM:+0200
TZOFFSETTO:+0100
TZNAME:CET
DTSTART:20241027T010000
END:STANDARD
END:VTIMEZONE
BEGIN:VEVENT
DTSTART;TZID=Europe/Berlin:20240302T120000
DTEND;TZID=Europe/Berlin:20240302T150000
DTSTAMP:20260421T012045
CREATED:20240201T121108Z
LAST-MODIFIED:20240201T123341Z
UID:4765-1709380800-1709391600@oldesloer-musikschule.de
SUMMARY:Workshop "Analyse und musikalisches Erkunden eines Pop-Songs"
DESCRIPTION:Workshop für Instrumental- und Gesangsschüler*innen ab 8 Jahren\, fortgeschrittene Anfänger*innen. \nSamstag\, 02.03.2024\, 12 Uhr – 15 Uhr\, KuB \nNähere Infos finden Sie unter Workshops.
URL:https://oldesloer-musikschule.de/event/workshop-analyse-und-musikalisches-erkunden-eines-pop-songs/
LOCATION:Kultur- und Bildungszentrum (KuB)\, Beer-Yaacov-Weg 1\, Bad Oldesloe\, 23843\, Deutschland
CATEGORIES:Termine der Musikschule
ATTACH;FMTTYPE=image/jpeg:https://oldesloer-musikschule.de/wp-content/uploads/2024/02/Poster_Workshop-Popularmusik_A1-3-klein.jpg
ORGANIZER;CN="Musikschule":MAILTO:info@oldesloer-musikschule.de
END:VEVENT
END:VCALENDAR