BEGIN:VCALENDAR
VERSION:2.0
PRODID:-//Musikschule - Bildung mit Zukunft - Oldesloer Musikschule für Stadt und Land e.V. - ECPv6.3.3.1//NONSGML v1.0//EN
CALSCALE:GREGORIAN
METHOD:PUBLISH
X-WR-CALNAME:Musikschule - Bildung mit Zukunft - Oldesloer Musikschule für Stadt und Land e.V.
X-ORIGINAL-URL:https://oldesloer-musikschule.de
X-WR-CALDESC:Veranstaltungen für Musikschule - Bildung mit Zukunft - Oldesloer Musikschule für Stadt und Land e.V.
REFRESH-INTERVAL;VALUE=DURATION:PT1H
X-Robots-Tag:noindex
X-PUBLISHED-TTL:PT1H
BEGIN:VTIMEZONE
TZID:Europe/Berlin
BEGIN:DAYLIGHT
TZOFFSETFROM:+0100
TZOFFSETTO:+0200
TZNAME:CEST
DTSTART:20240331T010000
END:DAYLIGHT
BEGIN:STANDARD
TZOFFSETFROM:+0200
TZOFFSETTO:+0100
TZNAME:CET
DTSTART:20241027T010000
END:STANDARD
END:VTIMEZONE
BEGIN:VEVENT
DTSTART;TZID=Europe/Berlin:20240309T100000
DTEND;TZID=Europe/Berlin:20240309T130000
DTSTAMP:20260421T010156
CREATED:20231219T110454Z
LAST-MODIFIED:20240307T132613Z
UID:4692-1709978400-1709989200@oldesloer-musikschule.de
SUMMARY:Der Workshop entfällt! Workshop „Vom Lampenfieber zur Lust am Auftritt mit der Alexander-Technik“ für alle ab 8 Jahren
DESCRIPTION:Der Workshop entfällt! \nWorkshop „Vom Lampenfieber zur Lust am Auftritt mit der Alexander-Technik“ für alle ab 8 Jahren \nSamstag\, 09.03.2024\, in der Ballett- und Tanzschule \nDie Alexander Technik ist eine Methode\, mit der die eigene natürliche innere Unterstützung gefunden werden kann\, um gut geerdet und in Verbindung mit der eigenen Persönlichkeit präsent auf der Bühne zu stehen. Sie vermittelt die Tools\, eigene Muster zu erkennen\, die zu Aufregung und Lampenfieber führen können. So lernen wir\, dass die Kraft\, Lampenfieber zu überwinden\, im Menschen selbst steckt. Astrid Lobreyer ist ausgebildete Lehrerin für Alexander-Technik. Der Kurs ist passend für alle Instrumentalist*innen\, Sänger*innen und Tänzer*innen ab 8 Jahren. \nNähere Infos finden Sie unter Workshops.
URL:https://oldesloer-musikschule.de/event/workshop-vom-lampenfieber-zur-lust-am-auftritt-mit-der-alexander-technik-fuer-alle-ab-8-jahren/
LOCATION:Ballett- und Tanzschule\, Hamburger Straße 25\, Bad Oldesloe\, 23843
CATEGORIES:Termine der Musikschule
ATTACH;FMTTYPE=image/jpeg:https://oldesloer-musikschule.de/wp-content/uploads/2024/02/Poster_Vom-Lampenfieber_A1-2-a-klein.jpg
ORGANIZER;CN="Musikschule":MAILTO:info@oldesloer-musikschule.de
END:VEVENT
END:VCALENDAR