BEGIN:VCALENDAR
VERSION:2.0
PRODID:-//Musikschule - Bildung mit Zukunft - Oldesloer Musikschule für Stadt und Land e.V. - ECPv6.3.3.1//NONSGML v1.0//EN
CALSCALE:GREGORIAN
METHOD:PUBLISH
X-ORIGINAL-URL:https://oldesloer-musikschule.de
X-WR-CALDESC:Veranstaltungen für Musikschule - Bildung mit Zukunft - Oldesloer Musikschule für Stadt und Land e.V.
REFRESH-INTERVAL;VALUE=DURATION:PT1H
X-Robots-Tag:noindex
X-PUBLISHED-TTL:PT1H
BEGIN:VTIMEZONE
TZID:Europe/Berlin
BEGIN:DAYLIGHT
TZOFFSETFROM:+0100
TZOFFSETTO:+0200
TZNAME:CEST
DTSTART:20240331T010000
END:DAYLIGHT
BEGIN:STANDARD
TZOFFSETFROM:+0200
TZOFFSETTO:+0100
TZNAME:CET
DTSTART:20241027T010000
END:STANDARD
END:VTIMEZONE
BEGIN:VEVENT
DTSTART;VALUE=DATE:20240415
DTEND;VALUE=DATE:20240420
DTSTAMP:20260420T233218
CREATED:20240201T115316Z
LAST-MODIFIED:20240201T115422Z
UID:4760-1713139200-1713571199@oldesloer-musikschule.de
SUMMARY:Naturerlebniswoche Wasser - Kunst - Achtsamkeit
DESCRIPTION:künstlerisch – musikalische Naturerlebniswoche für Kinder von 6 – 10 Jahren \nMontag\, 15.04.24\, bis Freitag\, 19.04.24\, 10:30 Uhr – 15:30 Uhr \n„Atelier Binderina“ im alfaPark\, Schillerstraße 22\, Reinfeld \nNähere Infos finden Sie unter Workshops. \n  \n 
URL:https://oldesloer-musikschule.de/event/naturerlebniswoche-wasser-kunst-achtsamkeit/
LOCATION:Atelier Binderina\, Schillerstraße 22\, Reinfeld\, 23858
CATEGORIES:Termine der Musikschule
ATTACH;FMTTYPE=image/jpeg:https://oldesloer-musikschule.de/wp-content/uploads/2023/02/Poster_Naturerlebnis_A1-2_klein.jpg
ORGANIZER;CN="Musikschule":MAILTO:info@oldesloer-musikschule.de
END:VEVENT
END:VCALENDAR