BEGIN:VCALENDAR
VERSION:2.0
PRODID:-//Musikschule - Bildung mit Zukunft - Oldesloer Musikschule für Stadt und Land e.V. - ECPv6.3.3.1//NONSGML v1.0//EN
CALSCALE:GREGORIAN
METHOD:PUBLISH
X-ORIGINAL-URL:https://oldesloer-musikschule.de
X-WR-CALDESC:Veranstaltungen für Musikschule - Bildung mit Zukunft - Oldesloer Musikschule für Stadt und Land e.V.
REFRESH-INTERVAL;VALUE=DURATION:PT1H
X-Robots-Tag:noindex
X-PUBLISHED-TTL:PT1H
BEGIN:VTIMEZONE
TZID:Europe/Berlin
BEGIN:DAYLIGHT
TZOFFSETFROM:+0100
TZOFFSETTO:+0200
TZNAME:CEST
DTSTART:20240331T010000
END:DAYLIGHT
BEGIN:STANDARD
TZOFFSETFROM:+0200
TZOFFSETTO:+0100
TZNAME:CET
DTSTART:20241027T010000
END:STANDARD
END:VTIMEZONE
BEGIN:VEVENT
DTSTART;TZID=Europe/Berlin:20240602T160000
DTEND;TZID=Europe/Berlin:20240602T160000
DTSTAMP:20260420T214203
CREATED:20231121T122053Z
LAST-MODIFIED:20231123T132158Z
UID:4620-1717344000-1717344000@oldesloer-musikschule.de
SUMMARY:Kindermusical: Max und die Zaubertrommel
DESCRIPTION:Der Kindermusical-Kurs der Oldesloer Musikschule zeigt unter der Leitung von Natalya Klem in vier Vorstellungen das Ergebnis zahlreicher Proben. Das Musical handelt von Max\, die den Wochenend-Einkaufsbummel mit ihrer Mutter ziemlich uncool findet. Doch plötzlich passiert etwas ganz Ungewöhnliches: ein Trödler schenkt ihr eine geheimnisvolle Trommel. Und plötzlich findet sie sich in einem Abenteuer in einem phantastischen Reich der bunten Töne wieder. \nSamstag\, 01.06.2024 und Sonntag\, 02.06.2024 \nSamstag\, 08.06.2024 und Sonntag\, 09.06.2024 \nKuB-Saal\, 16 Uhr\, Einlass ab 15:30 Uhr \nBesucher*innen ab einem Jahr zahlen folgende Eintrittspreise: \nVorverkauf: 18 € / 15 € (erm.)\, Abendkasse: 19 € / 16 € (erm.) \nTickets erhalten Sie bei der Stadtinfo im KuB\, Tel. 04531 / 504 199 oder über die Online-Ticketbestellung.
URL:https://oldesloer-musikschule.de/event/kindermusical-max-und-die-zaubertrommel-2/
LOCATION:Kultur- und Bildungszentrum (KuB)\, Beer-Yaacov-Weg 1\, Bad Oldesloe\, 23843\, Deutschland
CATEGORIES:Termine der Musikschule
ATTACH;FMTTYPE=image/jpeg:https://oldesloer-musikschule.de/wp-content/uploads/2023/11/max_und_die_zaubertrommel_plakat_a1-001-2000x2822.jpg
ORGANIZER;CN="Musikschule":MAILTO:info@oldesloer-musikschule.de
END:VEVENT
END:VCALENDAR