BEGIN:VCALENDAR
VERSION:2.0
PRODID:-//Musikschule - Bildung mit Zukunft - Oldesloer Musikschule für Stadt und Land e.V. - ECPv6.3.3.1//NONSGML v1.0//EN
CALSCALE:GREGORIAN
METHOD:PUBLISH
X-ORIGINAL-URL:https://oldesloer-musikschule.de
X-WR-CALDESC:Veranstaltungen für Musikschule - Bildung mit Zukunft - Oldesloer Musikschule für Stadt und Land e.V.
REFRESH-INTERVAL;VALUE=DURATION:PT1H
X-Robots-Tag:noindex
X-PUBLISHED-TTL:PT1H
BEGIN:VTIMEZONE
TZID:Europe/Berlin
BEGIN:DAYLIGHT
TZOFFSETFROM:+0100
TZOFFSETTO:+0200
TZNAME:CEST
DTSTART:20240331T010000
END:DAYLIGHT
BEGIN:STANDARD
TZOFFSETFROM:+0200
TZOFFSETTO:+0100
TZNAME:CET
DTSTART:20241027T010000
END:STANDARD
END:VTIMEZONE
BEGIN:VEVENT
DTSTART;TZID=Europe/Berlin:20240630T180000
DTEND;TZID=Europe/Berlin:20240630T180000
DTSTAMP:20260420T195358
CREATED:20231219T111432Z
LAST-MODIFIED:20240314T143409Z
UID:4697-1719770400-1719770400@oldesloer-musikschule.de
SUMMARY:4. Musikschulwettbewerb - Abschlusskonzert und Preisverleihung
DESCRIPTION:Die Preisträger*innen des diesjährigen Musikschulwettbewerbs präsentieren sich in einem feierlichen Konzert im KuB-Saal. \nSo. 30.06.2024\, KuB-Saal\, 18 Uhr \nEintritt frei\, Spenden willkommen \n  \nGefördert durch:
URL:https://oldesloer-musikschule.de/event/4-musikschulwettbewerb-abschlusskonzert-und-preisverleihung/
LOCATION:Kultur- und Bildungszentrum (KuB)\, Beer-Yaacov-Weg 1\, Bad Oldesloe\, 23843\, Deutschland
CATEGORIES:Termine der Musikschule
ATTACH;FMTTYPE=image/jpeg:https://oldesloer-musikschule.de/wp-content/uploads/2023/12/Wettbewerb_2024_A1-2-1000x1416-1.jpg
ORGANIZER;CN="Musikschule":MAILTO:info@oldesloer-musikschule.de
END:VEVENT
END:VCALENDAR