BEGIN:VCALENDAR
VERSION:2.0
PRODID:-//Musikschule - Bildung mit Zukunft - Oldesloer Musikschule für Stadt und Land e.V. - ECPv6.3.3.1//NONSGML v1.0//EN
CALSCALE:GREGORIAN
METHOD:PUBLISH
X-ORIGINAL-URL:https://oldesloer-musikschule.de
X-WR-CALDESC:Veranstaltungen für Musikschule - Bildung mit Zukunft - Oldesloer Musikschule für Stadt und Land e.V.
REFRESH-INTERVAL;VALUE=DURATION:PT1H
X-Robots-Tag:noindex
X-PUBLISHED-TTL:PT1H
BEGIN:VTIMEZONE
TZID:Europe/Berlin
BEGIN:DAYLIGHT
TZOFFSETFROM:+0100
TZOFFSETTO:+0200
TZNAME:CEST
DTSTART:20240331T010000
END:DAYLIGHT
BEGIN:STANDARD
TZOFFSETFROM:+0200
TZOFFSETTO:+0100
TZNAME:CET
DTSTART:20241027T010000
END:STANDARD
END:VTIMEZONE
BEGIN:VEVENT
DTSTART;VALUE=DATE:20241021
DTEND;VALUE=DATE:20241102
DTSTAMP:20260420T132421
CREATED:20241018T082247Z
LAST-MODIFIED:20241018T082519Z
UID:5000-1729468800-1730505599@oldesloer-musikschule.de
SUMMARY:Herbstferien von Mo. 21.10.24 bis Fr. 01.11.24
DESCRIPTION:In den Herbstferien\, von Montag\, 21.10.24\, bis Freitag\, 01.11.24\, findet kein Unterricht statt und auch die Geschäftsstelle der Musikschule ist geschlossen. \nAm Montag\, 04.11.24\, sind wir wieder persönlich für Sie erreichbar.
URL:https://oldesloer-musikschule.de/event/herbstferien-von-mo-21-10-24-bis-fr-01-11-24/
LOCATION:Kultur- und Bildungszentrum/Schule für Ballett & Tanz
CATEGORIES:Termine der Musikschule
ORGANIZER;CN="Musikschule":MAILTO:info@oldesloer-musikschule.de
END:VEVENT
END:VCALENDAR