BEGIN:VCALENDAR
VERSION:2.0
PRODID:-//Musikschule - Bildung mit Zukunft - Oldesloer Musikschule für Stadt und Land e.V. - ECPv6.3.3.1//NONSGML v1.0//EN
CALSCALE:GREGORIAN
METHOD:PUBLISH
X-WR-CALNAME:Musikschule - Bildung mit Zukunft - Oldesloer Musikschule für Stadt und Land e.V.
X-ORIGINAL-URL:https://oldesloer-musikschule.de
X-WR-CALDESC:Veranstaltungen für Musikschule - Bildung mit Zukunft - Oldesloer Musikschule für Stadt und Land e.V.
REFRESH-INTERVAL;VALUE=DURATION:PT1H
X-Robots-Tag:noindex
X-PUBLISHED-TTL:PT1H
BEGIN:VTIMEZONE
TZID:Europe/Berlin
BEGIN:DAYLIGHT
TZOFFSETFROM:+0100
TZOFFSETTO:+0200
TZNAME:CEST
DTSTART:20250330T010000
END:DAYLIGHT
BEGIN:STANDARD
TZOFFSETFROM:+0200
TZOFFSETTO:+0100
TZNAME:CET
DTSTART:20251026T010000
END:STANDARD
END:VTIMEZONE
BEGIN:VEVENT
DTSTART;VALUE=DATE:20250310
DTEND;VALUE=DATE:20250316
DTSTAMP:20260420T050948
CREATED:20241116T160255Z
LAST-MODIFIED:20250307T092828Z
UID:5029-1741564800-1742083199@oldesloer-musikschule.de
SUMMARY:2. Kammermusikwoche "Mehr Miteinander Musizieren"
DESCRIPTION:Das Zusammenspiel in kleinen und größeren Ensembles ist eines der Ziele der Musikschularbeit\, macht Spaß und bringt junge und erwachsene Musiker*innen stilistisch übergreifend zusammen. Die Kammermusikwoche der Musikschule hat sich zum Ziel gesetzt\, das gemeinsame Musizieren in den Mittelpunkt zu stellen. Wir wollen „Mehr Miteinander Musizieren“
URL:https://oldesloer-musikschule.de/event/2-kammermusikwoche-mehr-miteinander-musizieren/
LOCATION:Kultur- und Bildungszentrum (KuB)\, Beer-Yaacov-Weg 1\, Bad Oldesloe\, 23843\, Deutschland
CATEGORIES:Termine der Musikschule
ATTACH;FMTTYPE=image/jpeg:https://oldesloer-musikschule.de/wp-content/uploads/2024/11/Poster_Kammermusikwoche_A1-1-klein-scaled.jpg
ORGANIZER;CN="Musikschule":MAILTO:info@oldesloer-musikschule.de
END:VEVENT
BEGIN:VEVENT
DTSTART;TZID=Europe/Berlin:20250315T190000
DTEND;TZID=Europe/Berlin:20250315T190000
DTSTAMP:20260420T050948
CREATED:20241213T153732Z
LAST-MODIFIED:20250313T071717Z
UID:5088-1742065200-1742065200@oldesloer-musikschule.de
SUMMARY:Konzert mit dem Ensemble Musikuss
DESCRIPTION:Am 15.03.2025 um 19 Uhr im Rathaussaal präsentiert die Musikschule etwas ganz Besonderes für alle Liebhaber des klassischen Gesanges. \nDas Ensemble Musikuss hat extra hierfür ein anspruchsvolles und vielfältiges Programm erarbeitet. Unter der Leitung von Maja Greiser-Albert\, begleitet von Bela Riehl am Klavier\, erklingen Quartette\, Duette und Soli aus Oper\, Operette und Musical. \nDer Eintritt ist frei\, um eine Spende für einen sozialen Zweck wird gebeten. \nSamstag\, 15.03.2025\, Rathaussaal\, 19:00 Uhr
URL:https://oldesloer-musikschule.de/event/konzert-mit-dem-ensemble-musikuss/
LOCATION:Rathaussaal\, Bad Oldesloe\, 23843
CATEGORIES:Termine der Musikschule
ATTACH;FMTTYPE=image/jpeg:https://oldesloer-musikschule.de/wp-content/uploads/2024/12/Konzert_Musikuss_A1-2-klein-scaled.jpg
ORGANIZER;CN="Musikschule":MAILTO:info@oldesloer-musikschule.de
END:VEVENT
END:VCALENDAR