BEGIN:VCALENDAR
VERSION:2.0
PRODID:-//Musikschule - Bildung mit Zukunft - Oldesloer Musikschule für Stadt und Land e.V. - ECPv6.3.3.1//NONSGML v1.0//EN
CALSCALE:GREGORIAN
METHOD:PUBLISH
X-ORIGINAL-URL:https://oldesloer-musikschule.de
X-WR-CALDESC:Veranstaltungen für Musikschule - Bildung mit Zukunft - Oldesloer Musikschule für Stadt und Land e.V.
REFRESH-INTERVAL;VALUE=DURATION:PT1H
X-Robots-Tag:noindex
X-PUBLISHED-TTL:PT1H
BEGIN:VTIMEZONE
TZID:Europe/Berlin
BEGIN:DAYLIGHT
TZOFFSETFROM:+0100
TZOFFSETTO:+0200
TZNAME:CEST
DTSTART:20250330T010000
END:DAYLIGHT
BEGIN:STANDARD
TZOFFSETFROM:+0200
TZOFFSETTO:+0100
TZNAME:CET
DTSTART:20251026T010000
END:STANDARD
END:VTIMEZONE
BEGIN:VEVENT
DTSTART;TZID=Europe/Berlin:20250316T160000
DTEND;TZID=Europe/Berlin:20250316T160000
DTSTAMP:20260420T051905
CREATED:20241116T160606Z
LAST-MODIFIED:20250316T125114Z
UID:5031-1742140800-1742140800@oldesloer-musikschule.de
SUMMARY:Kammermusikkonzert "Mehr Miteinander Musizieren"
DESCRIPTION:In der Kammermusikwoche haben die Musiker*innen gemeinsam in kleineren und größeren Ensembles musiziert. Im Kammermusik-Konzert können die jungen und erwachsenen Musiker*innen ihr gemeinsames Spiel zeigen. \nSonntag\, 16.03.2025\, 16 Uhr\, Einlass ab 15:45 Uhr\, KuB-Saal \nEintritt frei
URL:https://oldesloer-musikschule.de/event/kammermusikkonzert-mehr-miteinander-musizieren-2/
LOCATION:Kultur- und Bildungszentrum (KuB)\, Beer-Yaacov-Weg 1\, Bad Oldesloe\, 23843\, Deutschland
CATEGORIES:Termine der Musikschule
ATTACH;FMTTYPE=image/jpeg:https://oldesloer-musikschule.de/wp-content/uploads/2024/11/Poster_Kammermusikwoche_A1-1-klein-scaled.jpg
ORGANIZER;CN="Musikschule":MAILTO:info@oldesloer-musikschule.de
END:VEVENT
END:VCALENDAR