BEGIN:VCALENDAR
VERSION:2.0
PRODID:-//Musikschule - Bildung mit Zukunft - Oldesloer Musikschule für Stadt und Land e.V. - ECPv6.3.3.1//NONSGML v1.0//EN
CALSCALE:GREGORIAN
METHOD:PUBLISH
X-WR-CALNAME:Musikschule - Bildung mit Zukunft - Oldesloer Musikschule für Stadt und Land e.V.
X-ORIGINAL-URL:https://oldesloer-musikschule.de
X-WR-CALDESC:Veranstaltungen für Musikschule - Bildung mit Zukunft - Oldesloer Musikschule für Stadt und Land e.V.
REFRESH-INTERVAL;VALUE=DURATION:PT1H
X-Robots-Tag:noindex
X-PUBLISHED-TTL:PT1H
BEGIN:VTIMEZONE
TZID:Europe/Berlin
BEGIN:DAYLIGHT
TZOFFSETFROM:+0100
TZOFFSETTO:+0200
TZNAME:CEST
DTSTART:20250330T010000
END:DAYLIGHT
BEGIN:STANDARD
TZOFFSETFROM:+0200
TZOFFSETTO:+0100
TZNAME:CET
DTSTART:20251026T010000
END:STANDARD
END:VTIMEZONE
BEGIN:VEVENT
DTSTART;VALUE=DATE:20250707
DTEND;VALUE=DATE:20250712
DTSTAMP:20260419T223618
CREATED:20250212T110315Z
LAST-MODIFIED:20250509T104541Z
UID:5148-1751846400-1752278399@oldesloer-musikschule.de
SUMMARY:Woche der offenen Tür in unserer Ballett- und Tanzschule
DESCRIPTION:Von Montag\, 07.07.2025\, bis Freitag\, 11.07.2025\, findet unsere Woche der offenen Tür in unserer Ballett- und Tanzschule „Les pas de ballet“ statt. \nBesuchen Sie unseren Unterricht und lernen Sie unsere Räume in der Hamburger Straße 25 kennen. Am Freitag\, 11.07.25\, findet von 13:30 Uhr bis 14:15 Uhr eine Schnupperstunde für Kinder von 4 bis 5 Jahren statt\, zu dieser Schnupperstunde bitten wir um Anmeldung unter n.leopold@oldesloer-musikschule.de. Alle anderen Unterrichte können ohne Voranmeldung besucht werden. \nDen Unterrichtsplan finden Sie unter Ballett & Tanz. \nBei Fragen melden Sie sich gerne unter Tel. 04531 / 80 48 98
URL:https://oldesloer-musikschule.de/event/woche-der-offenen-tuer-in-unserer-ballett-und-tanzschule/
LOCATION:Ballett- und Tanzschule\, Hamburger Straße 25\, Bad Oldesloe\, 23843
CATEGORIES:Termine der Musikschule
ORGANIZER;CN="Musikschule":MAILTO:info@oldesloer-musikschule.de
END:VEVENT
END:VCALENDAR