BEGIN:VCALENDAR
VERSION:2.0
PRODID:-//Musikschule - Bildung mit Zukunft - Oldesloer Musikschule für Stadt und Land e.V. - ECPv6.3.3.1//NONSGML v1.0//EN
CALSCALE:GREGORIAN
METHOD:PUBLISH
X-ORIGINAL-URL:https://oldesloer-musikschule.de
X-WR-CALDESC:Veranstaltungen für Musikschule - Bildung mit Zukunft - Oldesloer Musikschule für Stadt und Land e.V.
REFRESH-INTERVAL;VALUE=DURATION:PT1H
X-Robots-Tag:noindex
X-PUBLISHED-TTL:PT1H
BEGIN:VTIMEZONE
TZID:Europe/Berlin
BEGIN:DAYLIGHT
TZOFFSETFROM:+0100
TZOFFSETTO:+0200
TZNAME:CEST
DTSTART:20250330T010000
END:DAYLIGHT
BEGIN:STANDARD
TZOFFSETFROM:+0200
TZOFFSETTO:+0100
TZNAME:CET
DTSTART:20251026T010000
END:STANDARD
END:VTIMEZONE
BEGIN:VEVENT
DTSTART;VALUE=DATE:20251020
DTEND;VALUE=DATE:20251101
DTSTAMP:20260419T173854
CREATED:20251017T110122Z
LAST-MODIFIED:20251017T110122Z
UID:5413-1760918400-1761955199@oldesloer-musikschule.de
SUMMARY:Herbstferien vom 20.10.2025 bis 31.10.2025
DESCRIPTION:In den Herbstferien\, vom 20.10.2025 bis 31.10.2025\, ist die Geschäftsstelle der Musikschule geschlossen und es findet kein Unterricht statt. Ab Montag\, 03.11.2025\, sind wir wieder für Sie erreichbar.
URL:https://oldesloer-musikschule.de/event/herbstferien-vom-20-10-2025-bis-31-10-2025/
CATEGORIES:Termine der Musikschule
ORGANIZER;CN="Musikschule":MAILTO:info@oldesloer-musikschule.de
END:VEVENT
END:VCALENDAR