BEGIN:VCALENDAR
VERSION:2.0
PRODID:-//Musikschule - Bildung mit Zukunft - Oldesloer Musikschule für Stadt und Land e.V. - ECPv6.3.3.1//NONSGML v1.0//EN
CALSCALE:GREGORIAN
METHOD:PUBLISH
X-ORIGINAL-URL:https://oldesloer-musikschule.de
X-WR-CALDESC:Veranstaltungen für Musikschule - Bildung mit Zukunft - Oldesloer Musikschule für Stadt und Land e.V.
REFRESH-INTERVAL;VALUE=DURATION:PT1H
X-Robots-Tag:noindex
X-PUBLISHED-TTL:PT1H
BEGIN:VTIMEZONE
TZID:Europe/Berlin
BEGIN:DAYLIGHT
TZOFFSETFROM:+0100
TZOFFSETTO:+0200
TZNAME:CEST
DTSTART:20210328T010000
END:DAYLIGHT
BEGIN:STANDARD
TZOFFSETFROM:+0200
TZOFFSETTO:+0100
TZNAME:CET
DTSTART:20211031T010000
END:STANDARD
END:VTIMEZONE
BEGIN:VEVENT
DTSTART;TZID=Europe/Berlin:20210304T170000
DTEND;TZID=Europe/Berlin:20210304T180000
DTSTAMP:20260423T112621
CREATED:20210205T134338Z
LAST-MODIFIED:20210312T112912Z
UID:2660-1614877200-1614880800@oldesloer-musikschule.de
SUMMARY:Singen gegen den Corona-Blues im Home-Office
DESCRIPTION:Yvonne Dombrowski bietet ein wöchentliches Online-Chorsingen an. Dies ist der dritte Termin\, ein weiterer folgt am 11.03.2021 \n 
URL:https://oldesloer-musikschule.de/event/singen-gegen-den-corona-blues-im-home-office-3/
LOCATION:Kultur- und Bildungszentrum\, Beer-Yaacov-Weg 1\, Bad Oldesloe\, 23843\, Deutschland
CATEGORIES:Termine der Musikschule
ORGANIZER;CN="Musikschule":MAILTO:info@oldesloer-musikschule.de
END:VEVENT
BEGIN:VEVENT
DTSTART;TZID=Europe/Berlin:20210311T170000
DTEND;TZID=Europe/Berlin:20210311T180000
DTSTAMP:20260423T112621
CREATED:20210205T134818Z
LAST-MODIFIED:20210312T112947Z
UID:2662-1615482000-1615485600@oldesloer-musikschule.de
SUMMARY:Singen gegen den Corona-Blues im Home-Office
DESCRIPTION:Yvonne Dombrowski bietet ein wöchentliches Online-Chorsingen an. Dies ist der vierte und letzte Termin. \n 
URL:https://oldesloer-musikschule.de/event/singen-gegen-den-corona-blues-im-home-office-4/
LOCATION:Kultur- und Bildungszentrum\, Beer-Yaacov-Weg 1\, Bad Oldesloe\, 23843\, Deutschland
CATEGORIES:Termine der Musikschule
ORGANIZER;CN="Musikschule":MAILTO:info@oldesloer-musikschule.de
END:VEVENT
BEGIN:VEVENT
DTSTART;TZID=Europe/Berlin:20210327T103000
DTEND;TZID=Europe/Berlin:20210327T150000
DTSTAMP:20260423T112621
CREATED:20201208T101821Z
LAST-MODIFIED:20210312T111451Z
UID:2479-1616841000-1616857200@oldesloer-musikschule.de
SUMMARY:Online: Songwriting - Workshop
DESCRIPTION:In diesem Online-Workshop wird es darum gehen\, gemeinsam Wege zum Komponieren eines Musikstückes zu erkunden. Der Workshop wird von unseren Dozentinnen Yvonne Dombrowski und Christine Pfau geleitet und findet am Samstag\, 27.03.2021\, von 10:30 Uhr bis 15:00 Uhr statt. \nWeitere Informationen erhalten Sie auf unserer Homepage unter Workshops. \nFoto: Tiffy Soso
URL:https://oldesloer-musikschule.de/event/songwriting-workshop/
CATEGORIES:Termine der Musikschule
ORGANIZER;CN="Musikschule":MAILTO:info@oldesloer-musikschule.de
END:VEVENT
END:VCALENDAR