BEGIN:VCALENDAR
VERSION:2.0
PRODID:-//Musikschule - Bildung mit Zukunft - Oldesloer Musikschule für Stadt und Land e.V. - ECPv6.3.3.1//NONSGML v1.0//EN
CALSCALE:GREGORIAN
METHOD:PUBLISH
X-ORIGINAL-URL:https://oldesloer-musikschule.de
X-WR-CALDESC:Veranstaltungen für Musikschule - Bildung mit Zukunft - Oldesloer Musikschule für Stadt und Land e.V.
REFRESH-INTERVAL;VALUE=DURATION:PT1H
X-Robots-Tag:noindex
X-PUBLISHED-TTL:PT1H
BEGIN:VTIMEZONE
TZID:Europe/Berlin
BEGIN:DAYLIGHT
TZOFFSETFROM:+0100
TZOFFSETTO:+0200
TZNAME:CEST
DTSTART:20210328T010000
END:DAYLIGHT
BEGIN:STANDARD
TZOFFSETFROM:+0200
TZOFFSETTO:+0100
TZNAME:CET
DTSTART:20211031T010000
END:STANDARD
END:VTIMEZONE
BEGIN:VEVENT
DTSTART;TZID=Europe/Berlin:20211106T103000
DTEND;TZID=Europe/Berlin:20211106T150000
DTSTAMP:20260422T224338
CREATED:20210624T093357Z
LAST-MODIFIED:20210624T093357Z
UID:3260-1636194600-1636210800@oldesloer-musikschule.de
SUMMARY:Songwriting - Workshop
DESCRIPTION:In unserem „Songwriting Workshop“ wird es darum gehen\, gemeinsam Wege zum Komponieren eines Musikstückes zu erkunden. \nWillkommen sind alle\, die Lust haben; Teilnehmer*innen\, die bereits am letzten Workshop teilgenommen haben\, sind herzlich willkommen. \nDer Workshop findet am Samstag\, 06.11.2021\, von 10:30 Uhr bis 15:00 Uhr statt. Unsere Dozentinnen Yvonne Dombrowski und Christine Pfau leiten den Workshop. \nNähere Informationen finden Sie unter Workshops.
URL:https://oldesloer-musikschule.de/event/songwriting-workshop-2/
LOCATION:Rathaussaal\, Bad Oldesloe\, 23843
CATEGORIES:Termine der Musikschule
ORGANIZER;CN="Musikschule":MAILTO:info@oldesloer-musikschule.de
END:VEVENT
BEGIN:VEVENT
DTSTART;TZID=Europe/Berlin:20211120T100000
DTEND;TZID=Europe/Berlin:20211120T130000
DTSTAMP:20260422T224338
CREATED:20211104T141315Z
LAST-MODIFIED:20211104T141315Z
UID:3411-1637402400-1637413200@oldesloer-musikschule.de
SUMMARY:„ZUPF! - der Schnuppertag für Gitarre und mehr“ – Probestunden
DESCRIPTION:Die Oldesloer Musikschule bietet Einzelunterrichte der Zupfinstrumente\, Gitarre\, Harfe und Zauberharfe/Tischharfe\, nach Terminvergabe am 20.11.2021 von 10:00 Uhr bis 13:00 Uhr im Kultur- und Bildungszentrum an. \nNähere Informationen erhalten Sie unter Neuigkeiten.
URL:https://oldesloer-musikschule.de/event/zupf-der-schnuppertag-fuer-gitarre-und-mehr-probestunden/
LOCATION:Kultur- und Bildungszentrum (KuB)\, Beer-Yaacov-Weg 1\, Bad Oldesloe\, 23843\, Deutschland
CATEGORIES:Termine der Musikschule
ATTACH;FMTTYPE=image/jpeg:https://oldesloer-musikschule.de/wp-content/uploads/2021/11/Kind-spielt-Gitarre.jpg
ORGANIZER;CN="Musikschule":MAILTO:info@oldesloer-musikschule.de
END:VEVENT
BEGIN:VEVENT
DTSTART;TZID=Europe/Berlin:20211120T140000
DTEND;TZID=Europe/Berlin:20211120T160000
DTSTAMP:20260422T224338
CREATED:20211104T141746Z
LAST-MODIFIED:20211104T141746Z
UID:3413-1637416800-1637424000@oldesloer-musikschule.de
SUMMARY:„ZUPF! - der Schnuppertag für Gitarre und mehr“ – Konzert
DESCRIPTION:Am Samstag\, 20.11.2021\, findet ab 14:00 Uhr ein Konzert der Zupfinstrumente statt\, Schüler*innen der Oldesloer Musikschule präsentieren sich solistisch und im Ensemble. \nNähere Informationen rund um den Schnuppertag finden Sie unter Neuigkeiten. \nHygienerichtlinien für das Konzert: Zutritt zum Konzert nur mit einem Nachweis über die vollständige Impfung\, Genesung oder einem aktuellen negativen Covid-19-Testergebnis in Verbindung mit einem gültigen Ausweis; Kinder bis zum 7. Lebensjahr benötigen keinen Nachweis\, bei minderjährigen Schüler*innen genügt ein Nachweis zur regelmäßigen Testung der allgemeinbildenden Schule
URL:https://oldesloer-musikschule.de/event/zupf-der-schnuppertag-fuer-gitarre-und-mehr-konzert/
LOCATION:Bürgerhaus\, Mühlenstraße 22\, Bad Oldesloe\, 23843
CATEGORIES:Termine der Musikschule
ATTACH;FMTTYPE=image/jpeg:https://oldesloer-musikschule.de/wp-content/uploads/2021/11/Kind-spielt-Gitarre.jpg
ORGANIZER;CN="Musikschule":MAILTO:info@oldesloer-musikschule.de
END:VEVENT
BEGIN:VEVENT
DTSTART;TZID=Europe/Berlin:20211127T160000
DTEND;TZID=Europe/Berlin:20211127T180000
DTSTAMP:20260422T224338
CREATED:20210624T094107Z
LAST-MODIFIED:20211123T082559Z
UID:3262-1638028800-1638036000@oldesloer-musikschule.de
SUMMARY:AUSVERKAUFT! Vom Ballettsaal auf die Bühne
DESCRIPTION:Diese Veranstaltung ist ausverkauft\, es wir keine Abendkasse geben. \nDie Schüler*innen unserer Schule für Ballett & Tanz tauschen den Ballettsaal mit der Bühne und zeigen ihr Können. Begleitet durch Natalya Klem am Klavier werden alle Schüler*innen durch ein choreographiertes Exercise tanzen und so ihren Trainingsalltag präsentieren. \nDie Veranstaltung findet am Samstag\, 27.11.2021\, und am Sonntag\, 28.11.2021\, um 16 Uhr in der Festhalle statt\, der Einlass beginnt um 15:30 Uhr. \nWir empfehlen eine zeitnahe Reservierung bzw. Kauf der Karten\, da das Kartenkontingent auf 175 Karten pro Veranstaltung begrenzt ist. \nHygienerichtlinien für das Konzert: Zutritt zum Konzert nur mit einem Nachweis über die vollständige Impfung oder Genesung. Personen\, die aus medizinischen Gründen nicht geimpft werden können\, müssen eine ärztliche Bescheinigung und ein aktuelles negatives Covid-19-Testergebnis vorlegen. Diese Nachweise werden in Verbindung mit einem gültigen Ausweis geprüft; Kinder bis zum 7. Lebensjahr benötigen keinen Nachweis\, bei minderjährigen Schüler*innen genügt ein Nachweis zur regelmäßigen Testung der allgemeinbildenden Schule. \nMit freundlicher Unterstützung der Kulturförderung der Stadt Bad Oldesloe  \n  \n 
URL:https://oldesloer-musikschule.de/event/vom-ballettsaal-auf-die-buehne-3/
LOCATION:Festhalle\, Bad Oldesloe\, 23843\, Deutschland
CATEGORIES:Termine der Musikschule
ORGANIZER;CN="Musikschule":MAILTO:info@oldesloer-musikschule.de
END:VEVENT
BEGIN:VEVENT
DTSTART;TZID=Europe/Berlin:20211128T160000
DTEND;TZID=Europe/Berlin:20211128T180000
DTSTAMP:20260422T224338
CREATED:20210624T094333Z
LAST-MODIFIED:20211123T082746Z
UID:3264-1638115200-1638122400@oldesloer-musikschule.de
SUMMARY:AUSVERKAUFT! Vom Ballettsaal auf die Bühne
DESCRIPTION:Diese Veranstaltung ist ausverkauft\, es wird keine Abendkasse geben. \nDie Schüler*innen unserer Schule für Ballett & Tanz tauschen den Ballettsaal mit der Bühne und zeigen ihr Können. Begleitet durch Natalya Klem am Klavier werden alle Schüler*innen durch ein choreographiertes Exercise tanzen und so ihren Trainingsalltag präsentieren. \nDie Veranstaltung findet am Samstag\, 27.11.2021\, und am Sonntag\, 28.11.2021\, um 16 Uhr in der Festhalle statt\, der Einlass beginnt um 15:30 Uhr. \nWir empfehlen eine zeitnahe Reservierung bzw. Kauf der Karten\, da das Kartenkontingent auf 175 Karten pro Veranstaltung begrenzt ist. \nHygienerichtlinien für das Konzert: Zutritt zum Konzert nur mit einem Nachweis über die vollständige Impfung oder Genesung. Personen\, die aus medizinischen Gründen nicht geimpft werden können\, müssen eine ärztliche Bescheinigung und ein aktuelles negatives Covid-19-Testergebnis vorlegen. Diese Nachweise werden in Verbindung mit einem gültigen Ausweis geprüft; Kinder bis zum 7. Lebensjahr benötigen keinen Nachweis\, bei minderjährigen Schüler*innen genügt ein Nachweis zur regelmäßigen Testung der allgemeinbildenden Schule. \nMit freundlicher Unterstützung der Kulturförderung der Stadt Bad Oldesloe 
URL:https://oldesloer-musikschule.de/event/vom-ballettsaal-auf-die-buehne-4/
LOCATION:Festhalle\, Bad Oldesloe\, 23843\, Deutschland
CATEGORIES:Termine der Musikschule
ORGANIZER;CN="Musikschule":MAILTO:info@oldesloer-musikschule.de
END:VEVENT
END:VCALENDAR