BEGIN:VCALENDAR
VERSION:2.0
PRODID:-//Musikschule - Bildung mit Zukunft - Oldesloer Musikschule für Stadt und Land e.V. - ECPv6.3.3.1//NONSGML v1.0//EN
CALSCALE:GREGORIAN
METHOD:PUBLISH
X-WR-CALNAME:Musikschule - Bildung mit Zukunft - Oldesloer Musikschule für Stadt und Land e.V.
X-ORIGINAL-URL:https://oldesloer-musikschule.de
X-WR-CALDESC:Veranstaltungen für Musikschule - Bildung mit Zukunft - Oldesloer Musikschule für Stadt und Land e.V.
REFRESH-INTERVAL;VALUE=DURATION:PT1H
X-Robots-Tag:noindex
X-PUBLISHED-TTL:PT1H
BEGIN:VTIMEZONE
TZID:Europe/Berlin
BEGIN:DAYLIGHT
TZOFFSETFROM:+0100
TZOFFSETTO:+0200
TZNAME:CEST
DTSTART:20220327T010000
END:DAYLIGHT
BEGIN:STANDARD
TZOFFSETFROM:+0200
TZOFFSETTO:+0100
TZNAME:CET
DTSTART:20221030T010000
END:STANDARD
END:VTIMEZONE
BEGIN:VEVENT
DTSTART;TZID=Europe/Berlin:20220302T170000
DTEND;TZID=Europe/Berlin:20220302T190000
DTSTAMP:20260422T161623
CREATED:20220211T130722Z
LAST-MODIFIED:20220211T130722Z
UID:3587-1646240400-1646247600@oldesloer-musikschule.de
SUMMARY:Hybrid-Workshop Musikproduktion
DESCRIPTION:Am 02.03.2022 beginnt unser Hybrid-Workshop „Musikproduktion“. \nHauke Wolff gibt Einblicke in die Welt der „Digital Audio Work Station“\, der Workshop findet am 02.03.\, 09.03. und 16.03. online über Zoom statt und am Samstag\, 19.03.22\, treffen sich alle Teilnehmer*innen vor Ort im KuB. Nähere Informationen finden Sie unter Workshops.
URL:https://oldesloer-musikschule.de/event/hybrid-workshop-musikproduktion/
LOCATION:Kultur- und Bildungszentrum (KuB)\, Beer-Yaacov-Weg 1\, Bad Oldesloe\, 23843\, Deutschland
CATEGORIES:Termine der Musikschule
ORGANIZER;CN="Musikschule":MAILTO:info@oldesloer-musikschule.de
END:VEVENT
BEGIN:VEVENT
DTSTART;TZID=Europe/Berlin:20220306T160000
DTEND;TZID=Europe/Berlin:20220306T180000
DTSTAMP:20260422T161623
CREATED:20211119T110203Z
LAST-MODIFIED:20220222T111947Z
UID:3442-1646582400-1646589600@oldesloer-musikschule.de
SUMMARY:Fällt leider aus! Frühjahrskonzert der Oldesloer Musikschule
DESCRIPTION:Diese Veranstaltung fällt leider aus! \nDie Frühlingszeit naht mit großen Schritten und mit ihr die schönsten Frühlingsklänge aus instrumentalen und gesanglichen Beiträgen von Schüler*innen der Oldesloer Musikschule. \nSo. 06.03.2022\, KuB-Saal\, 16 Uhr\, Einlass ab 15:30 Uhr \nEintritt frei\, der Förderverein der Musikschule freut sich über eine Spende \nBitte bringen Sie ein gültiges Ausweisdokument (z.B. Personalausweis) mit und weisen Sie beim Einlass den vollständigen Impfschutz oder die Genesung nach (2G-Regel). Personen\, die aus medizinischen Gründen nicht geimpft werden können\, legen bitte eine ärztliche Bescheinigung und ein aktuelles negatives Covid-19-Testergebnis vor. Kinder bis einschließlich 6 Jahre benötigen keinen 2G-Nachweis. Bei Schüler*innen unter 18 Jahren genügt die Vorlage einer Bescheinigung der Schule\, dass sie zweimal wöchentlich in der Schule getestet werden.
URL:https://oldesloer-musikschule.de/event/fruehjahrskonzert-der-oldesloer-musikschule/
LOCATION:Kultur- und Bildungszentrum (KuB)\, Beer-Yaacov-Weg 1\, Bad Oldesloe\, 23843\, Deutschland
CATEGORIES:Termine der Musikschule
ORGANIZER;CN="Musikschule":MAILTO:info@oldesloer-musikschule.de
END:VEVENT
BEGIN:VEVENT
DTSTART;TZID=Europe/Berlin:20220312T200000
DTEND;TZID=Europe/Berlin:20220312T220000
DTSTAMP:20260422T161623
CREATED:20211119T111023Z
LAST-MODIFIED:20220311T074353Z
UID:3445-1647115200-1647122400@oldesloer-musikschule.de
SUMMARY:WIRD VERSCHOBEN auf den 04.11.2022! Trio Weniger/Secara/Köhler: Letters From Life
DESCRIPTION:Diese Veranstaltung muss leider verschoben werden! Die Veranstaltung wird auf Freitag\, 04.11.2022\, verlegt.  \nJazzkonzert der Oldesloer Musikschule für Stadt und Land e.V. in Kooperation mit Jazz im Rathaus e.V.. \nMit Wolfgang Köhler (Piano)\, Peter Weniger (Saxofon) und Marc Secara (Gesang) spielen drei der bekanntesten Jazzmusiker Deutschlands Highlights des Great American Songbooks und neue Kompositionen. Sie fasziniert besonders das intuitive Zusammenspiel\, das in dieser intimen Besetzung besonders gut zur Geltung kommt – in zupackenden\, virtuosen Bebop-Nummern\, groovenden Swingtiteln oder zu Herzen gehenden Balladen. \nSa. 12.03.2022\, KuB-Saal\, 20 Uhr \nEintritt: VVK € 20\,50 / erm. € 14\,50; AK € 22\,50 / erm. € 16\,50 \nTickets erhalten Sie in der Stadtinfo im KuB\, Tel. 04531 504 199 oder über den Online-Ticketverkauf. \nBitte bringen Sie ein gültiges Ausweisdokument (z.B. Personalausweis) mit und legen Sie beim Einlass den Nachweis der vollständigen Impfung\, einen Testnachweis oder den Genesenennachweis vor (3G-Regel). Personen\, die aus medizinischen Gründen nicht geimpft werden können\, müssen eine ärztliche Bescheinigung und ein aktuelles negatives Covid-19-Testergebnis vorlegen. Kinder bis einschließlich 6 Jahre benötigen keinen 3G-Nachweis. Bei Schüler*innen unter 18 Jahren genügt die Vorlage einer Bescheinigung der Schule\, dass sie zweimal wöchentlich in der Schule getestet werden. \n 
URL:https://oldesloer-musikschule.de/event/trio-weniger-secara-koehler-letters-from-life/
LOCATION:Kultur- und Bildungszentrum (KuB)\, Beer-Yaacov-Weg 1\, Bad Oldesloe\, 23843\, Deutschland
CATEGORIES:Termine der Musikschule
ATTACH;FMTTYPE=image/jpeg:https://oldesloer-musikschule.de/wp-content/uploads/2021/11/Poster_Jazzkonzert_A1__5_A.jpg
END:VEVENT
BEGIN:VEVENT
DTSTART;TZID=Europe/Berlin:20220313T093000
DTEND;TZID=Europe/Berlin:20220313T170000
DTSTAMP:20260422T161623
CREATED:20211119T111538Z
LAST-MODIFIED:20220311T074540Z
UID:3448-1647163800-1647190800@oldesloer-musikschule.de
SUMMARY:WIRD VERSCHOBEN auf den 06.11.2022! Workshop "Estill Voice Training" mit Prof. Marc Secara
DESCRIPTION:Diese Veranstaltung muss leider verschoben werden! Der Workshop wird auf Sonntag\, 06.11.2022\, verlegt. \nWie funktioniert die menschliche Stimme und wie genau gelingt es mir\, verschiedene Stimmqualitäten zu erzeugen? Wie erreiche ich meine stimmlichen Ziele effektiv und schnell? Wie kann ich gezielt meine gesangstechnischen Probleme lösen oder meinen Sound verbessern? \nDie Oldesloer Musikschule konnte für diesen Einführungstag in die wissenschaftlich fundierte Methode des „Estill Voice Training“ Prof. Marc Secara aus Berlin gewinnen. Marc Secara ist Professor für Gesang an der Hochschule für populäre Künste Berlin\, Estill Master Trainer und gehört zu den bekannten Vertretern des neuen deutschen Jazz- und Popgesangs. Er ist u.a. Gaststar in Jazzprogrammen des Deutschen Sinfonie Orchesters Berlin\, des Deutsche Oper Orchester und der NDR Big Band und stand mit Künstlern wie Thomas Quasthoff\, Paul Kuhn und Peter Herbolzheimer auf der Bühne. \nUnterrichtstag:          So. 13.03.2022\, 9:30 Uhr – 17 Uhr \nLeitung:                          Prof. Marc Secara \nOrt:                                    KuB-Saal\, 23843 Bad Oldesloe \nEntgelt p.P.:                  € 50\,00 / erm. € 35\,00; für Schüler*innen der Oldesloer Musikschule entgeltfrei \nNähere Informationen erhalten Sie unter Workshops. \nBitte bringen Sie ein gültiges Ausweisdokument (z.B. Personalausweis) mit und legen Sie beim Einlass den Nachweis des vollständigen Impfschutzes\, einen Testnachweis oder den Genesenennachweis vor (3G-Regel). Personen\, die aus medizinischen Gründen nicht geimpft werden können\, müssen eine ärztliche Bescheinigung und ein aktuelles negatives Covid-19-Testergebnis vorlegen. Kinder bis einschließlich 6 Jahre benötigen keinen 3G-Nachweis. Bei Schüler*innen unter 18 Jahren genügt die Vorlage einer Bescheinigung der Schule\, dass sie zweimal wöchentlich in der Schule getestet werden.
URL:https://oldesloer-musikschule.de/event/workshop-estill-voice-training-mit-prof-marc-secara/
LOCATION:Kultur- und Bildungszentrum (KuB)\, Beer-Yaacov-Weg 1\, Bad Oldesloe\, 23843\, Deutschland
CATEGORIES:Termine der Musikschule
ATTACH;FMTTYPE=image/jpeg:https://oldesloer-musikschule.de/wp-content/uploads/2021/11/Estill_Voice_Workshop_A1-2.jpg
ORGANIZER;CN="Musikschule":MAILTO:info@oldesloer-musikschule.de
END:VEVENT
BEGIN:VEVENT
DTSTART;TZID=Europe/Berlin:20220326T160000
DTEND;TZID=Europe/Berlin:20220326T170000
DTSTAMP:20260422T161623
CREATED:20220201T081928Z
LAST-MODIFIED:20220322T073456Z
UID:3530-1648310400-1648314000@oldesloer-musikschule.de
SUMMARY:WIRD VERSCHOBEN auf den 10.09.2022!BE | EIN | FLUSST
DESCRIPTION:Diese Veranstaltung muss leider verschoben werden\, neuer Termin am 10.09.2022. \nTanzen unter anderen Bedingungen. \nEine tänzerische Retrospektive der letzten zwei Jahre – in verschiedenen Stilen. \nSa. 26.03. & So. 27.03.2022\, Festhalle\, 16 Uhr\, Einlass ab 15:30 Uhr \nEintritt: € 12\,50 / erm. € 10\,00 \nTickets erhalten Sie in der Stadtinfo im KuB\, Tel. 04531 504 199 oder über den Online-Ticketverkauf. \nZur Zeit gilt die 3G-Regel\, bitte bringen Sie zu der Veranstaltung ein gültiges Ausweisdokument (z.B. Personalausweis) mit und legen Sie Ihren Impf-\, Test- oder Genesenennachweis vor. Kinder bis einschließlich 6 Jahre benötigen keinen Nachweis. Bei Schüler*innen unter 18 Jahren genügt die Vorlage einer Bescheinigung der Schule\, dass sie zweimal wöchentlich in der Schule getestet werden.
URL:https://oldesloer-musikschule.de/event/be-ein-flusst/
LOCATION:Festhalle\, Bad Oldesloe\, 23843\, Deutschland
CATEGORIES:Termine der Musikschule
ATTACH;FMTTYPE=image/jpeg:https://oldesloer-musikschule.de/wp-content/uploads/2022/02/Poster_Beeinflusst_A1-7_500x706.jpg
ORGANIZER;CN="Musikschule":MAILTO:info@oldesloer-musikschule.de
END:VEVENT
BEGIN:VEVENT
DTSTART;TZID=Europe/Berlin:20220327T160000
DTEND;TZID=Europe/Berlin:20220327T170000
DTSTAMP:20260422T161623
CREATED:20220201T083119Z
LAST-MODIFIED:20220322T073614Z
UID:3532-1648396800-1648400400@oldesloer-musikschule.de
SUMMARY:WIRD VERSCHOBEN auf den 11.09.2022! BE | EIN | FLUSST
DESCRIPTION:Diese Veranstaltung muss leider verschoben werden\, neuer Termin am 11.09.2022! \nTanzen unter anderen Bedingungen. \nEine tänzerische Retrospektive der letzten zwei Jahre – in verschiedenen Stilen. \nSa. 26.03. & So. 27.03.2022\, Festhalle\, 16 Uhr\, Einlass 15:30 Uhr \nEintritt: € 12\,50 / erm. € 10\,00 \nTickets erhalten Sie in der Stadtinfo im KuB\, Tel. 04531 504 199 oder über den Online-Ticketverkauf. \nZur Zeit gilt die 3G-Regel\, bitte bringen Sie zu der Veranstaltung ein gültiges Ausweisdokument (z.B. Personalausweis) mit und legen Sie Ihren Impf-\, Test- oder Genesenennachweis vor. Kinder bis einschließlich 6 Jahre benötigen keinen Nachweis. Bei Schüler*innen unter 18 Jahren genügt die Vorlage einer Bescheinigung der Schule\, dass sie zweimal wöchentlich in der Schule getestet werden.
URL:https://oldesloer-musikschule.de/event/be-ein-flusst-2/
LOCATION:Festhalle\, Bad Oldesloe\, 23843\, Deutschland
CATEGORIES:Termine der Musikschule
ATTACH;FMTTYPE=image/jpeg:https://oldesloer-musikschule.de/wp-content/uploads/2022/02/Poster_Beeinflusst_A1-7_500x706.jpg
ORGANIZER;CN="Musikschule":MAILTO:info@oldesloer-musikschule.de
END:VEVENT
END:VCALENDAR