BEGIN:VCALENDAR
VERSION:2.0
PRODID:-//Musikschule - Bildung mit Zukunft - Oldesloer Musikschule für Stadt und Land e.V. - ECPv6.3.3.1//NONSGML v1.0//EN
CALSCALE:GREGORIAN
METHOD:PUBLISH
X-WR-CALNAME:Musikschule - Bildung mit Zukunft - Oldesloer Musikschule für Stadt und Land e.V.
X-ORIGINAL-URL:https://oldesloer-musikschule.de
X-WR-CALDESC:Veranstaltungen für Musikschule - Bildung mit Zukunft - Oldesloer Musikschule für Stadt und Land e.V.
REFRESH-INTERVAL;VALUE=DURATION:PT1H
X-Robots-Tag:noindex
X-PUBLISHED-TTL:PT1H
BEGIN:VTIMEZONE
TZID:Europe/Berlin
BEGIN:DAYLIGHT
TZOFFSETFROM:+0100
TZOFFSETTO:+0200
TZNAME:CEST
DTSTART:20220327T010000
END:DAYLIGHT
BEGIN:STANDARD
TZOFFSETFROM:+0200
TZOFFSETTO:+0100
TZNAME:CET
DTSTART:20221030T010000
END:STANDARD
END:VTIMEZONE
BEGIN:VEVENT
DTSTART;TZID=Europe/Berlin:20221217T160000
DTEND;TZID=Europe/Berlin:20221217T180000
DTSTAMP:20260422T013719
CREATED:20220630T093942Z
LAST-MODIFIED:20221124T114539Z
UID:3898-1671292800-1671300000@oldesloer-musikschule.de
SUMMARY:Weihnachtskonzert der Oldesloer Musikschule für Stadt und Land e.V.
DESCRIPTION:Unser traditionelles Weihnachtskonzert findet am Samstag\, 17.12.2022\, im KuB-Saal statt. \nEintritt frei\, Spenden sind willkommen. \nBitte beachten Sie die allgemeinen Hygieneregeln und tragen Sie auf den Verkehrswegen im KuB einen qualifizierten Mund- und Nasenschutz.
URL:https://oldesloer-musikschule.de/event/weihnachtskonzert-der-oldesloer-musikschule-fuer-stadt-und-land-e-v-2/
LOCATION:Kultur- und Bildungszentrum (KuB)\, Beer-Yaacov-Weg 1\, Bad Oldesloe\, 23843\, Deutschland
CATEGORIES:Termine der Musikschule
ORGANIZER;CN="Musikschule":MAILTO:info@oldesloer-musikschule.de
END:VEVENT
END:VCALENDAR