BEGIN:VCALENDAR
VERSION:2.0
PRODID:-//Musikschule - Bildung mit Zukunft - Oldesloer Musikschule für Stadt und Land e.V. - ECPv6.3.3.1//NONSGML v1.0//EN
CALSCALE:GREGORIAN
METHOD:PUBLISH
X-ORIGINAL-URL:https://oldesloer-musikschule.de
X-WR-CALDESC:Veranstaltungen für Musikschule - Bildung mit Zukunft - Oldesloer Musikschule für Stadt und Land e.V.
REFRESH-INTERVAL;VALUE=DURATION:PT1H
X-Robots-Tag:noindex
X-PUBLISHED-TTL:PT1H
BEGIN:VTIMEZONE
TZID:Europe/Berlin
BEGIN:DAYLIGHT
TZOFFSETFROM:+0100
TZOFFSETTO:+0200
TZNAME:CEST
DTSTART:20230326T010000
END:DAYLIGHT
BEGIN:STANDARD
TZOFFSETFROM:+0200
TZOFFSETTO:+0100
TZNAME:CET
DTSTART:20231029T010000
END:STANDARD
END:VTIMEZONE
BEGIN:VEVENT
DTSTART;VALUE=DATE:20230306
DTEND;VALUE=DATE:20230311
DTSTAMP:20260421T202829
CREATED:20230228T103914Z
LAST-MODIFIED:20230228T104108Z
UID:4241-1678060800-1678492799@oldesloer-musikschule.de
SUMMARY:Kammermusikwoche mit Workshops
DESCRIPTION:Unsere Kammermusikwoche „Mehr Miteinander Musizieren“ findet vom 06.03. bis 10.03.2023 statt. \nAn verschiedenen Tagen finden Workshops zum Mitmachen statt\, die Workshops finden im Rathaussaal statt und eine Anmeldung ist über unsere Online-Anmeldung möglich. \nEine Übersicht der Workshops finden Sie hier. \nWir freuen uns über viele Teilnehmer*innen.
URL:https://oldesloer-musikschule.de/event/kammermusikwoche-mit-workshops/
LOCATION:Rathaussaal\, Bad Oldesloe\, 23843
CATEGORIES:Termine der Musikschule
ORGANIZER;CN="Musikschule":MAILTO:info@oldesloer-musikschule.de
END:VEVENT
BEGIN:VEVENT
DTSTART;TZID=Europe/Berlin:20230311T180000
DTEND;TZID=Europe/Berlin:20230311T200000
DTSTAMP:20260421T202829
CREATED:20221104T082400Z
LAST-MODIFIED:20230217T112722Z
UID:4084-1678557600-1678564800@oldesloer-musikschule.de
SUMMARY:Kammermusikkonzert "Mehr miteinander musizieren"
DESCRIPTION:Langjährige Ensembles und neue\, die sich erst in der Kammermusikwoche formiert haben\, präsentieren sich gemeinsam bei einem Abschlusskonzert der Kammermusikwoche. \nSamstag\, 11.03.2023\, 18 Uhr\, Einlass ab 17:30 Uhr\, KuB-Saal \nEintritt frei\, Spenden sind willkommen! \nWir danken unseren Förderern: \n \n \nBitte beachten Sie die allgemeinen Hygieneregeln.
URL:https://oldesloer-musikschule.de/event/kammermusikkonzert-mehr-miteinander-musizieren/
LOCATION:Kultur- und Bildungszentrum (KuB)\, Beer-Yaacov-Weg 1\, Bad Oldesloe\, 23843\, Deutschland
CATEGORIES:Termine der Musikschule
ATTACH;FMTTYPE=image/jpeg:https://oldesloer-musikschule.de/wp-content/uploads/2016/12/musikschule_09.jpg
ORGANIZER;CN="Musikschule":MAILTO:info@oldesloer-musikschule.de
END:VEVENT
END:VCALENDAR