BEGIN:VCALENDAR
VERSION:2.0
PRODID:-//Musikschule - Bildung mit Zukunft - Oldesloer Musikschule für Stadt und Land e.V. - ECPv6.3.3.1//NONSGML v1.0//EN
CALSCALE:GREGORIAN
METHOD:PUBLISH
X-WR-CALNAME:Musikschule - Bildung mit Zukunft - Oldesloer Musikschule für Stadt und Land e.V.
X-ORIGINAL-URL:https://oldesloer-musikschule.de
X-WR-CALDESC:Veranstaltungen für Musikschule - Bildung mit Zukunft - Oldesloer Musikschule für Stadt und Land e.V.
REFRESH-INTERVAL;VALUE=DURATION:PT1H
X-Robots-Tag:noindex
X-PUBLISHED-TTL:PT1H
BEGIN:VTIMEZONE
TZID:Europe/Berlin
BEGIN:DAYLIGHT
TZOFFSETFROM:+0100
TZOFFSETTO:+0200
TZNAME:CEST
DTSTART:20230326T010000
END:DAYLIGHT
BEGIN:STANDARD
TZOFFSETFROM:+0200
TZOFFSETTO:+0100
TZNAME:CET
DTSTART:20231029T010000
END:STANDARD
END:VTIMEZONE
BEGIN:VEVENT
DTSTART;TZID=Europe/Berlin:20230514T110000
DTEND;TZID=Europe/Berlin:20230514T140000
DTSTAMP:20260421T165433
CREATED:20230331T115841Z
LAST-MODIFIED:20230331T120137Z
UID:4299-1684062000-1684072800@oldesloer-musikschule.de
SUMMARY:Musik im Sonntagswald
DESCRIPTION:Musik im Sonntagswald – Für Familien mit Kindern bis 6 Jahren \nGemeinsam begeben wir uns auf die Spuren des Frühlings. Wir entdecken die Tiere\, die Pflanzen und die Musik des Kneeden und begleiten unsere Frühlingslieder mit Waldinstrumenten. \nSonntag\, 14.05.2023\, 11 Uhr – 14 Uhr \nOrt: Wald Kneeden\, Bad Oldesloe \nDozentin: Ellen Studtfeld \nAnmeldungen über QR-Code über Landesverband der Musikschulen in Schleswig-Holstein. Die Teilnahme ist kostenlos.
URL:https://oldesloer-musikschule.de/event/musik-im-sonntagswald/
LOCATION:Wald Kneeden\, Bad Oldesloe
CATEGORIES:Termine der Musikschule
ATTACH;FMTTYPE=image/jpeg:https://oldesloer-musikschule.de/wp-content/uploads/2023/03/Poster_Musik_im_sonntagswald_A1-1-1_.jpg
END:VEVENT
BEGIN:VEVENT
DTSTART;VALUE=DATE:20230522
DTEND;VALUE=DATE:20230528
DTSTAMP:20260421T165433
CREATED:20221220T115452Z
LAST-MODIFIED:20230504T153516Z
UID:4161-1684713600-1685231999@oldesloer-musikschule.de
SUMMARY:Festwoche zum 20-jährigen Jubiläum
DESCRIPTION:Die Oldesloer Musikschule für Stadt und Land e.V. feiert 20-jähriges Jubiläum. \nSchnupperstunden\, Workshops und weitere Aktionen zieren diese Festwoche. \nMontag\, 22.05.2023 – Samstag\, 27.05.2023\, täglich\, KuB/Schule für Ballett & Tanz \nEintritt frei\, Voranmeldung z.T. erforderlich\, Anmeldungen sind über unser Anmeldeformular möglich. \n  \nEine Übersicht der Workshops finden Sie hier. \n  \n 
URL:https://oldesloer-musikschule.de/event/festwoche-zum-20-jaehrigen-jubilaeum/
LOCATION:Kultur- und Bildungszentrum/Schule für Ballett & Tanz
CATEGORIES:Termine der Musikschule
ORGANIZER;CN="Musikschule":MAILTO:info@oldesloer-musikschule.de
END:VEVENT
BEGIN:VEVENT
DTSTART;TZID=Europe/Berlin:20230527T170000
DTEND;TZID=Europe/Berlin:20230527T200000
DTSTAMP:20260421T165433
CREATED:20221220T120328Z
LAST-MODIFIED:20230525T123116Z
UID:4164-1685206800-1685217600@oldesloer-musikschule.de
SUMMARY:Festkonzert zum 20-jährigen Jubiläum
DESCRIPTION:Die Oldesloer Musikschule für Stadt und Land e.V. feiert 20-jähriges Jubiläum. Frühere und aktuelle Schüler*innen aus allen Fachbereichen präsentieren sich mit Musik und Tanz. Zudem begrüßen wir Wegbegleiter*innen herzlich bei diesem Konzert. \nSamstag\, 27.05.2023\, Kub-Saal\, 17 Uhr\, Einlass ab 16:45 Uhr \nEintritt frei\, um Spenden wird gebeten. \n\nBitte beachten Sie die allgemeinen Hygieneregeln.
URL:https://oldesloer-musikschule.de/event/festkonzert-zum-20-jaehrigen-jubilaeum/
LOCATION:Kultur- und Bildungszentrum (KuB)\, Beer-Yaacov-Weg 1\, Bad Oldesloe\, 23843\, Deutschland
CATEGORIES:Termine der Musikschule
ORGANIZER;CN="Musikschule":MAILTO:info@oldesloer-musikschule.de
END:VEVENT
END:VCALENDAR