BEGIN:VCALENDAR
VERSION:2.0
PRODID:-//Musikschule - Bildung mit Zukunft - Oldesloer Musikschule für Stadt und Land e.V. - ECPv6.3.3.1//NONSGML v1.0//EN
CALSCALE:GREGORIAN
METHOD:PUBLISH
X-ORIGINAL-URL:https://oldesloer-musikschule.de
X-WR-CALDESC:Veranstaltungen für Musikschule - Bildung mit Zukunft - Oldesloer Musikschule für Stadt und Land e.V.
REFRESH-INTERVAL;VALUE=DURATION:PT1H
X-Robots-Tag:noindex
X-PUBLISHED-TTL:PT1H
BEGIN:VTIMEZONE
TZID:Europe/Berlin
BEGIN:DAYLIGHT
TZOFFSETFROM:+0100
TZOFFSETTO:+0200
TZNAME:CEST
DTSTART:20230326T010000
END:DAYLIGHT
BEGIN:STANDARD
TZOFFSETFROM:+0200
TZOFFSETTO:+0100
TZNAME:CET
DTSTART:20231029T010000
END:STANDARD
END:VTIMEZONE
BEGIN:VEVENT
DTSTART;TZID=Europe/Berlin:20230701T160000
DTEND;TZID=Europe/Berlin:20230701T180000
DTSTAMP:20260421T134929
CREATED:20221124T121316Z
LAST-MODIFIED:20230615T083845Z
UID:4110-1688227200-1688234400@oldesloer-musikschule.de
SUMMARY:Aufführung Kindermusical „Das magische Buch“ von Michael Brill
DESCRIPTION:Der Kindermusical-Kurs der Musikschule präsentiert das aktuelle Stück: ein Musical mit einer turbulenten Reise durch die Zeit\, unvergesslichen Abenteuern und der Magie der wahren Freundschaft. \nSamstag\, 24.06.2023 und Sonntag\, 25.06.2023 \nSamstag\, 01.07.2023 und Sonntag\, 02.07.2023 \nKuB-Saal\, 16 Uhr\, Einlass ab 15:30 Uhr \nVVK € 17\,00 / € 14\,00 (erm.); AK € 18\,00 / 15\,00 (erm.) \nKarten erhalten Sie bei der Stadtinfo im KuB\, Tel. 04531 504 199 oder über die Online-Ticketbestellung. \nBitte beachten Sie die allgemeinen Hygieneregeln.
URL:https://oldesloer-musikschule.de/event/auffuehrung-kindermusical-das-magische-buch-von-michael-brill-3/
LOCATION:Kultur- und Bildungszentrum (KuB)\, Beer-Yaacov-Weg 1\, Bad Oldesloe\, 23843\, Deutschland
CATEGORIES:Termine der Musikschule
ATTACH;FMTTYPE=image/jpeg:https://oldesloer-musikschule.de/wp-content/uploads/2023/06/Poster_Kindermusical_DasmagischeBuch_A1-1_3.Version_200x283-e1686817773120.jpg
ORGANIZER;CN="Musikschule":MAILTO:info@oldesloer-musikschule.de
END:VEVENT
BEGIN:VEVENT
DTSTART;TZID=Europe/Berlin:20230702T160000
DTEND;TZID=Europe/Berlin:20230702T180000
DTSTAMP:20260421T134929
CREATED:20221124T121642Z
LAST-MODIFIED:20230615T083912Z
UID:4112-1688313600-1688320800@oldesloer-musikschule.de
SUMMARY:Aufführung Kindermusical „Das magische Buch“ von Michael Brill
DESCRIPTION:Der Kindermusical-Kurs der Musikschule präsentiert das aktuelle Stück: ein Musical mit einer turbulenten Reise durch die Zeit\, unvergesslichen Abenteuern und der Magie der wahren Freundschaft. \nSamstag\, 24.06.2023 und Sonntag\, 25.06.2023 \nSamstag\, 01.07.2023 und Sonntag\, 02.07.2023 \nKuB-Saal\, 16 Uhr\, Einlass ab 15:30 Uhr \nVVK € 17\,00 / € 14\,00 (erm.); AK € 18\,00 / 15\,00 (erm.) \nKarten erhalten Sie bei der Stadtinfo im KuB\, Tel. 04531 504 199 oder über die Online-Ticketbestellung. \nBitte beachten Sie die allgemeinen Hygieneregeln.
URL:https://oldesloer-musikschule.de/event/auffuehrung-kindermusical-das-magische-buch-von-michael-brill-4/
LOCATION:Kultur- und Bildungszentrum (KuB)\, Beer-Yaacov-Weg 1\, Bad Oldesloe\, 23843\, Deutschland
CATEGORIES:Termine der Musikschule
ATTACH;FMTTYPE=image/jpeg:https://oldesloer-musikschule.de/wp-content/uploads/2023/06/Poster_Kindermusical_DasmagischeBuch_A1-1_3.Version_200x283-e1686817773120.jpg
ORGANIZER;CN="Musikschule":MAILTO:info@oldesloer-musikschule.de
END:VEVENT
BEGIN:VEVENT
DTSTART;VALUE=DATE:20230703
DTEND;VALUE=DATE:20230708
DTSTAMP:20260421T134929
CREATED:20230623T073424Z
LAST-MODIFIED:20230623T115810Z
UID:4431-1688342400-1688774399@oldesloer-musikschule.de
SUMMARY:Woche der offenen Tür - Schule für Ballett & Tanz
DESCRIPTION:Wir freuen uns auf viele Interessierte\, die uns in der Woche der offenen Tür in unserer Schule für Ballett & Tanz besuchen und unseren Unterricht kennenlernen möchten. \nVon Montag\, 03.07.23\, bis Freitag\, 07.07.23\, haben Sie die Möglichkeit unsere laufenden Unterrichte zu besuchen und an Workshops teilzunehmen. Für die Workshops melden Sie sich bitte über unser Anmeldeformular an\, die Teilnahme am laufenden Unterricht ist ohne Anmeldung möglich. Der Workshop am Montag\, „Pas de deux für Kinder ab 8 Jahren\, mit Papa (oder Mama)“\, findet in der Sporthalle der Grundschule West in der Helene-Stöcker-Straße 2 und alle anderen Kurse finden in unseren Räumen in der Hamburger Straße 25 statt. \nEine Übersicht der Unterrichte und Workshops finden Sie hier. Die Teilnahme ist entgeltfrei. \nFür Fragen stehen wir Ihnen unter Tel. 04531 / 80 48 98 zu Verfügung. \n 
URL:https://oldesloer-musikschule.de/event/woche-der-offenen-tuer-schule-fuer-ballett-tanz-5/
LOCATION:Ballett- und Tanzschule\, Hamburger Straße 25\, Bad Oldesloe\, 23843
CATEGORIES:Termine der Musikschule
ORGANIZER;CN="Musikschule":MAILTO:info@oldesloer-musikschule.de
END:VEVENT
END:VCALENDAR