BEGIN:VCALENDAR
VERSION:2.0
PRODID:-//Musikschule - Bildung mit Zukunft - Oldesloer Musikschule für Stadt und Land e.V. - ECPv6.3.3.1//NONSGML v1.0//EN
CALSCALE:GREGORIAN
METHOD:PUBLISH
X-ORIGINAL-URL:https://oldesloer-musikschule.de
X-WR-CALDESC:Veranstaltungen für Musikschule - Bildung mit Zukunft - Oldesloer Musikschule für Stadt und Land e.V.
REFRESH-INTERVAL;VALUE=DURATION:PT1H
X-Robots-Tag:noindex
X-PUBLISHED-TTL:PT1H
BEGIN:VTIMEZONE
TZID:Europe/Berlin
BEGIN:DAYLIGHT
TZOFFSETFROM:+0100
TZOFFSETTO:+0200
TZNAME:CEST
DTSTART:20230326T010000
END:DAYLIGHT
BEGIN:STANDARD
TZOFFSETFROM:+0200
TZOFFSETTO:+0100
TZNAME:CET
DTSTART:20231029T010000
END:STANDARD
END:VTIMEZONE
BEGIN:VEVENT
DTSTART;TZID=Europe/Berlin:20231111T170000
DTEND;TZID=Europe/Berlin:20231111T170000
DTSTAMP:20260421T063452
CREATED:20230717T081018Z
LAST-MODIFIED:20231110T121541Z
UID:4501-1699722000-1699722000@oldesloer-musikschule.de
SUMMARY:Dozierendenkonzert der Musikschule
DESCRIPTION:Das Konzert findet im Rathaussaal statt! \nLehrerinnen und Lehrer der Oldesloer Musikschule präsentieren sich mit Ihrer Kunst \nLehrerinnen und Lehrer der Oldesloer Musikschule für Stadt und Land e.V. zeigen sich in einem 45-minütigen vielfältigen Konzert im KuB-Saal. Die türkische Sopranistin Sen Acar\, die seit Oktober an der Oldesloer Musikschule unterrichtet\, spielte bereits umjubelte Auftritte als Pamina in Mozarts „Zauberflöte“ und Gretel aus der Oper „Hänsel und Gretel“ an der Oper in Kiel. Gemeinsam mit Musikschulleiter Marian Henze\, der neben seiner Leitungstätigkeit ein ausgebildeter Opernsänger ist und als Dozent für Gesang an der Musikschule arbeitet\, wird sie zudem ein Duett singen. \nJana De Troyer\, Dozentin für Saxophon und Solo-Saxophonistin\, bewegt sich begeistert von zeitgenössischen Klängen als Komponistin und Künstlerin zwischen den verschiedenen Genres des 20. und 21. Jahrhunderts. Der Dozent für Saxophon und Bläserklassen Paul Steinert studiert aktuell noch Saxophon an der renommierten Musikhochschule Lübeck und hat bereits mit höchstem Erfolg am bundesweiten Wettbewerb „Jugend musiziert“ teilgenommen. Danang Dirhamsyah\, Pianist aus Indonesien und Dozent für Klavier an der Musikschule\, tourte bereits 2020 bis 2022 durch Deutschland mit Werken von Johann Sebastian Bach. Er begleitet die Kolleg*innen beim Konzert und wird zudem Solo-Werke auf dem Flügel der Musikschule im Kultur- und Bildungszentrum präsentieren. \nSamstag\, 11.11.2023\, Rathaussaal\, 17 Uhr\, Einlass ab 16:30 Uhr \nEintritt frei\, Spenden willkommen \nDanang Dirhamsya\, Foto: Anne Krämer \nJana De Troyer\, Foto: John Grzinich \nSen Acar
URL:https://oldesloer-musikschule.de/event/dozierendenkonzert-der-musikschule/
LOCATION:Kultur- und Bildungszentrum (KuB)\, Beer-Yaacov-Weg 1\, Bad Oldesloe\, 23843\, Deutschland
CATEGORIES:Termine der Musikschule
ORGANIZER;CN="Musikschule":MAILTO:info@oldesloer-musikschule.de
END:VEVENT
END:VCALENDAR