BEGIN:VCALENDAR
VERSION:2.0
PRODID:-//Musikschule - Bildung mit Zukunft - Oldesloer Musikschule für Stadt und Land e.V. - ECPv6.3.3.1//NONSGML v1.0//EN
CALSCALE:GREGORIAN
METHOD:PUBLISH
X-WR-CALNAME:Musikschule - Bildung mit Zukunft - Oldesloer Musikschule für Stadt und Land e.V.
X-ORIGINAL-URL:https://oldesloer-musikschule.de
X-WR-CALDESC:Veranstaltungen für Musikschule - Bildung mit Zukunft - Oldesloer Musikschule für Stadt und Land e.V.
REFRESH-INTERVAL;VALUE=DURATION:PT1H
X-Robots-Tag:noindex
X-PUBLISHED-TTL:PT1H
BEGIN:VTIMEZONE
TZID:Europe/Berlin
BEGIN:DAYLIGHT
TZOFFSETFROM:+0100
TZOFFSETTO:+0200
TZNAME:CEST
DTSTART:20240331T010000
END:DAYLIGHT
BEGIN:STANDARD
TZOFFSETFROM:+0200
TZOFFSETTO:+0100
TZNAME:CET
DTSTART:20241027T010000
END:STANDARD
END:VTIMEZONE
BEGIN:VEVENT
DTSTART;TZID=Europe/Berlin:20240224T093000
DTEND;TZID=Europe/Berlin:20240224T163000
DTSTAMP:20260421T011903
CREATED:20231219T105315Z
LAST-MODIFIED:20240222T124255Z
UID:4688-1708767000-1708792200@oldesloer-musikschule.de
SUMMARY:Workshop "Darf ich bitten" - Pas de deux mit deinen Knochen
DESCRIPTION:Der Workshop muss leider ausfallen! \n  \n  \n24.02.2024 in der Ballett- und Tanzschule: „Darf ich bitten“ – Pas de deux mit deinen Knochen \nDie Knochen neugierig aus einer ganz neuen Perspektive kennenlernen\, über sie staunen und sie ganz bewusst im eigenen Körper spüren und entdecken\, wo die Gelenke bei sich selbst zu finden sind. Und dann sich auf das Pas de deux zu Musik einlassen\, im Tanz mit fließenden Bewegungen und einem Lächeln im Gesicht herausfinden\, wie anders es sich anfühlt\, wenn die Knochen bewusst mittanzen. \n09:30 – 11:30 Uhr Workshop für 6 – 10 – Jährige \n12:00 – 14:00 Uhr Workshop für 11-13 – Jährige \n14:30 – 16:30 Uhr Workshop für ab 14 – Jährige \nNähere Infos finden Sie unter Workshops. \n 
URL:https://oldesloer-musikschule.de/event/workshop-darf-ich-bitten-pas-de-deux-mit-deinen-knochen/
LOCATION:Ballett- und Tanzschule\, Hamburger Straße 25\, Bad Oldesloe\, 23843
CATEGORIES:Termine der Musikschule
ATTACH;FMTTYPE=image/jpeg:https://oldesloer-musikschule.de/wp-content/uploads/2023/12/Poster_Darf-ich-bitten_A1-2-a-klein-1.jpg
ORGANIZER;CN="Musikschule":MAILTO:info@oldesloer-musikschule.de
END:VEVENT
END:VCALENDAR