BEGIN:VCALENDAR
VERSION:2.0
PRODID:-//Musikschule - Bildung mit Zukunft - Oldesloer Musikschule für Stadt und Land e.V. - ECPv6.3.3.1//NONSGML v1.0//EN
CALSCALE:GREGORIAN
METHOD:PUBLISH
X-ORIGINAL-URL:https://oldesloer-musikschule.de
X-WR-CALDESC:Veranstaltungen für Musikschule - Bildung mit Zukunft - Oldesloer Musikschule für Stadt und Land e.V.
REFRESH-INTERVAL;VALUE=DURATION:PT1H
X-Robots-Tag:noindex
X-PUBLISHED-TTL:PT1H
BEGIN:VTIMEZONE
TZID:Europe/Berlin
BEGIN:DAYLIGHT
TZOFFSETFROM:+0100
TZOFFSETTO:+0200
TZNAME:CEST
DTSTART:20240331T010000
END:DAYLIGHT
BEGIN:STANDARD
TZOFFSETFROM:+0200
TZOFFSETTO:+0100
TZNAME:CET
DTSTART:20241027T010000
END:STANDARD
END:VTIMEZONE
BEGIN:VEVENT
DTSTART;TZID=Europe/Berlin:20240928T100000
DTEND;TZID=Europe/Berlin:20240928T160000
DTSTAMP:20260420T133345
CREATED:20240705T121458Z
LAST-MODIFIED:20240917T100133Z
UID:4900-1727517600-1727539200@oldesloer-musikschule.de
SUMMARY:Tag der offenen Musikschule
DESCRIPTION:Instrumente und Gesang ausprobieren\, Ensembleangebote\, kleine Konzerte\, Vorspiele und Beratung bietet die Musikschule im Rahmen des Schnuppertages an. \nSamstag\, 28.09.2024\, KuB\, 10 Uhr – 16 Uhr \nNähere Informationen finden Sie unter Neuigkeiten. \nBeachten Sie auch unseren „Percussion-Tag“ und „Musikschule on Tour“\, diese Veranstaltungen finden ebenfalls am 28.09.24 statt.
URL:https://oldesloer-musikschule.de/event/tag-der-offenen-musikschule-5/
LOCATION:Kultur- und Bildungszentrum (KuB)\, Beer-Yaacov-Weg 1\, Bad Oldesloe\, 23843\, Deutschland
CATEGORIES:Termine der Musikschule
ORGANIZER;CN="Musikschule":MAILTO:info@oldesloer-musikschule.de
END:VEVENT
BEGIN:VEVENT
DTSTART;TZID=Europe/Berlin:20240928T103000
DTEND;TZID=Europe/Berlin:20240928T154500
DTSTAMP:20260420T133345
CREATED:20240705T121810Z
LAST-MODIFIED:20240917T100644Z
UID:4902-1727519400-1727538300@oldesloer-musikschule.de
SUMMARY:Percussion-Tag
DESCRIPTION:Der Fachbereich Schlaginstrumente präsentiert sich in seiner großen musikalisch-rhythmischen Bandbreite. \nSamstag\, 28.09.2024\, Jugendherberge\, 10:30 Uhr – 15:45 Uhr \nBeachten Sie auch unseren „Tag der offenen Musikschule“ und „Musikschule on Tour“\, diese Veranstaltungen finden ebenfalls am 28.09.24 statt.
URL:https://oldesloer-musikschule.de/event/percussion-tag/
LOCATION:Jugendherberge Bad Oldesloe
CATEGORIES:Termine der Musikschule
ORGANIZER;CN="Musikschule":MAILTO:info@oldesloer-musikschule.de
END:VEVENT
BEGIN:VEVENT
DTSTART;TZID=Europe/Berlin:20240928T140000
DTEND;TZID=Europe/Berlin:20240928T140000
DTSTAMP:20260420T133345
CREATED:20240705T122236Z
LAST-MODIFIED:20240917T100754Z
UID:4906-1727532000-1727532000@oldesloer-musikschule.de
SUMMARY:Musikschule on Tour
DESCRIPTION:Schüler*innen der Musikschulen Bad Segeberg\, Kiel\, Plön und Bad Oldesloe präsentieren sich in einem gemeinsamen Konzert. \nSamstag\, 28.09.24\, KuB-Saal\, 14 Uhr \nEintritt frei \nBeachten Sie auch unseren „Tag der offenen Tür“ und unseren „Percussion-Tag“\, diese Veranstaltungen finden ebenfalls am 28.09.24 statt.
URL:https://oldesloer-musikschule.de/event/musikschule-on-tour/
LOCATION:Kultur- und Bildungszentrum (KuB)\, Beer-Yaacov-Weg 1\, Bad Oldesloe\, 23843\, Deutschland
CATEGORIES:Termine der Musikschule
ORGANIZER;CN="Musikschule":MAILTO:info@oldesloer-musikschule.de
END:VEVENT
END:VCALENDAR