BEGIN:VCALENDAR
VERSION:2.0
PRODID:-//Musikschule - Bildung mit Zukunft - Oldesloer Musikschule für Stadt und Land e.V. - ECPv6.3.3.1//NONSGML v1.0//EN
CALSCALE:GREGORIAN
METHOD:PUBLISH
X-WR-CALNAME:Musikschule - Bildung mit Zukunft - Oldesloer Musikschule für Stadt und Land e.V.
X-ORIGINAL-URL:https://oldesloer-musikschule.de
X-WR-CALDESC:Veranstaltungen für Musikschule - Bildung mit Zukunft - Oldesloer Musikschule für Stadt und Land e.V.
REFRESH-INTERVAL;VALUE=DURATION:PT1H
X-Robots-Tag:noindex
X-PUBLISHED-TTL:PT1H
BEGIN:VTIMEZONE
TZID:Europe/Berlin
BEGIN:DAYLIGHT
TZOFFSETFROM:+0100
TZOFFSETTO:+0200
TZNAME:CEST
DTSTART:20250330T010000
END:DAYLIGHT
BEGIN:STANDARD
TZOFFSETFROM:+0200
TZOFFSETTO:+0100
TZNAME:CET
DTSTART:20251026T010000
END:STANDARD
END:VTIMEZONE
BEGIN:VEVENT
DTSTART;VALUE=DATE:20250404
DTEND;VALUE=DATE:20250407
DTSTAMP:20260420T014801
CREATED:20241116T162338Z
LAST-MODIFIED:20241116T162953Z
UID:4156-1743724800-1743983999@oldesloer-musikschule.de
SUMMARY:Kammerorchester-Workshop am Wochenende mit Susanna Pócs
DESCRIPTION:„Aufeinander hören\, voneinander lernen“ heißt es vom 04.04.2025 bis 06.04.2025 bei unserem Workshop zur Förderung des Ensemblespiels für Jugendliche\, Erwachsene\, Musikschüler*innen und Musiker*innen. Unsere Dozentin Susanna Pócs bringt ihre langjährige Erfahrung in der Leitung verschiedener Kammermusik-Ensembles sowie ihre Liebe zum gemeinsamen Musizieren ein. \nOrt: Jugendherberge Dahme \nLeitung: Susanna Pócs \nEntgelt p.P.: € 165\,00 / € 155\,00 (erm.)\, darin enthalten: Kursentgelt sowie 2 Übernachtungen mit Vollpension \nTeilnehmendenzahl: mind. 9 TN\, max. 15 TN \nAnreise: im eigenen PKW \nAn- bzw. Abmeldeschluss: 15.01.2025. Bei Abmeldung nach dem 15.01.2025 wird das volle Kursentgelt fällig. \nNähere Informationen finden Sie unter Workshops. \nAnmeldung bitte über unsere Anmeldung zum Unterricht.
URL:https://oldesloer-musikschule.de/event/kammerorchester-workshop-am-wochenende-mit-susanna-pocs/
LOCATION:Jugendherberge Dahme\, Dahmeshöved 1\, Dahme\, 23747
CATEGORIES:Termine der Musikschule
ORGANIZER;CN="Musikschule":MAILTO:info@oldesloer-musikschule.de
END:VEVENT
BEGIN:VEVENT
DTSTART;VALUE=DATE:20250411
DTEND;VALUE=DATE:20250426
DTSTAMP:20260420T014801
CREATED:20250409T110055Z
LAST-MODIFIED:20250410T114143Z
UID:5246-1744329600-1745625599@oldesloer-musikschule.de
SUMMARY:Ferien vom 11.04.25 bis 25.04.25
DESCRIPTION:In den Ferien\, vom 11.04.25 bis zum 25.04.25\, ist die Geschäftsstelle der Musikschule geschlossen und es findet auch kein Unterricht statt. Am Montag\, 28.04.25\, sind wir wieder persönlich für Sie erreichbar. \n 
URL:https://oldesloer-musikschule.de/event/ferien-vom-11-04-25-bis-25-04-25/
CATEGORIES:Termine der Musikschule
ORGANIZER;CN="Musikschule":MAILTO:info@oldesloer-musikschule.de
END:VEVENT
END:VCALENDAR