BEGIN:VCALENDAR
VERSION:2.0
PRODID:-//Musikschule - Bildung mit Zukunft - Oldesloer Musikschule für Stadt und Land e.V. - ECPv6.3.3.1//NONSGML v1.0//EN
CALSCALE:GREGORIAN
METHOD:PUBLISH
X-ORIGINAL-URL:https://oldesloer-musikschule.de
X-WR-CALDESC:Veranstaltungen für Musikschule - Bildung mit Zukunft - Oldesloer Musikschule für Stadt und Land e.V.
REFRESH-INTERVAL;VALUE=DURATION:PT1H
X-Robots-Tag:noindex
X-PUBLISHED-TTL:PT1H
BEGIN:VTIMEZONE
TZID:Europe/Berlin
BEGIN:DAYLIGHT
TZOFFSETFROM:+0100
TZOFFSETTO:+0200
TZNAME:CEST
DTSTART:20250330T010000
END:DAYLIGHT
BEGIN:STANDARD
TZOFFSETFROM:+0200
TZOFFSETTO:+0100
TZNAME:CET
DTSTART:20251026T010000
END:STANDARD
END:VTIMEZONE
BEGIN:VEVENT
DTSTART;VALUE=DATE:20250728
DTEND;VALUE=DATE:20250906
DTSTAMP:20260419T191535
CREATED:20250725T064438Z
LAST-MODIFIED:20250725T064438Z
UID:5345-1753660800-1757116799@oldesloer-musikschule.de
SUMMARY:Sommerferien
DESCRIPTION:In den Sommerferien\, vom 28.07.25 bis zum 05.09.25\, ist die Geschäftsstelle der Musikschule geschlossen und es findet kein Unterricht statt. Ab Montag\, 08.09.25\, sind wir wieder persönlich für Sie erreichbar. Wir wünschen Ihnen schöne Sommertage!
URL:https://oldesloer-musikschule.de/event/sommerferien/
CATEGORIES:Termine der Musikschule
END:VEVENT
BEGIN:VEVENT
DTSTART;TZID=Europe/Berlin:20250928T100000
DTEND;TZID=Europe/Berlin:20250928T160000
DTSTAMP:20260419T191535
CREATED:20250918T101556Z
LAST-MODIFIED:20250924T134721Z
UID:5374-1759053600-1759075200@oldesloer-musikschule.de
SUMMARY:Tag der offenen Musikschule
DESCRIPTION:Instrumente\, Gesang und Tanz ausprobieren\, Ensembleangebote\, kleine Konzerte\, Vorspiele und Beratung für alle bietet die Musikschule am Tag der offenen Musikschule an. \nSonntag\, 28.09.2025\, Räume der Musikschule im KuB\, 10 Uhr – 16 Uhr \nWeitere Infos finden Sie unter Neuigkeiten.
URL:https://oldesloer-musikschule.de/event/tag-der-offenen-musikschule-6/
LOCATION:Kultur- und Bildungszentrum (KuB)\, Beer-Yaacov-Weg 1\, Bad Oldesloe\, 23843\, Deutschland
CATEGORIES:Termine der Musikschule
ORGANIZER;CN="Musikschule":MAILTO:info@oldesloer-musikschule.de
END:VEVENT
END:VCALENDAR